BEGIN:VCALENDAR
VERSION:2.0
PRODID:-//ChamberMaster//Event Calendar 2.0//EN
METHOD:PUBLISH
X-PUBLISHED-TTL:P3D
REFRESH-INTERVAL:P3D
CALSCALE:GREGORIAN
BEGIN:VEVENT
DTSTART:20200301T170000Z
DTEND:20200301T200000Z
X-MICROSOFT-CDO-ALLDAYEVENT:FALSE
SUMMARY:Delaware Today's 30th Annual Bridal Show
DESCRIPTION:Meet nearly 50 local vendors and discover the latest trends in gowns for you and your bridesmaids\, hair and makeup\, tuxedos\, photography\, flowers\, food\, d cor\, music and more. There will be special promotions\, plenty of food and drink\, and a professionally coordinated fashion show.
X-ALT-DESC;FMTTYPE=text/html:<span style="font-size: 14px\;"><span style="font-family: arial\;">Meet nearly 50 local vendors and discover the latest trends in gowns for you and your bridesmaids\, hair and makeup\, tuxedos\, photography\, flowers\, food\, d&eacute\;cor\, music and more. There will be special promotions\, plenty of food and drink\, and a professionally coordinated fashion show.</span></span>
LOCATION:Hotel DuPont 11th & Market Street Wilmington\, DE\, 19801
UID:e.2126.20052
SEQUENCE:3
DTSTAMP:20260426T003405Z
URL:http://business.thequietresorts.com/events/details/delaware-today-s-30th-annual-bridal-show-20052
END:VEVENT

END:VCALENDAR
