BEGIN:VCALENDAR
VERSION:2.0
PRODID:-//ChamberMaster//Event Calendar 2.0//EN
METHOD:PUBLISH
X-PUBLISHED-TTL:P3D
REFRESH-INTERVAL:P3D
CALSCALE:GREGORIAN
BEGIN:VEVENT
DTSTART:20230612T170000Z
DTEND:20230612T180000Z
X-MICROSOFT-CDO-ALLDAYEVENT:FALSE
SUMMARY:Delaware State Senator Sarah McBride Talk and Conversation
DESCRIPTION:St. Martha's Episcopal Church in Bethany Beach is pleased to sponsor a talk and conversation with Delaware State Senator Sarah McBride at 1 pm\, Monday\, June 12 in the parish hall.  Senator McBride garnered substantial publicity when she became the first openly transgender state senator.  Senator McBride will talk about her life and her passions related to diversity\, inclusion\, and public policy issues.  We hope that you will be able to join us for this important conversation that is free and open to the public.
X-ALT-DESC;FMTTYPE=text/html:<span style="font-size:14px"><span style="font-family:arial\,helvetica\,sans-serif">St. Martha&rsquo\;s Episcopal Church in Bethany Beach is pleased to sponsor a talk and conversation with Delaware State Senator Sarah McBride at <strong>1 pm\, Monday\, June 12</strong> in the parish hall.&nbsp\; Senator McBride garnered substantial publicity when she became the first openly transgender state senator.&nbsp\; Senator McBride will talk about her life and her passions related to diversity\, inclusion\, and public policy issues.&nbsp\; We hope that you will be able to join us for this important conversation that is free and open to the public.</span></span>
LOCATION:St. Martha's Episcopal Church 117 Maplewood Street Bethany Beach\, DE 19930
UID:e.2126.25907
SEQUENCE:3
DTSTAMP:20260421T004526Z
URL:http://business.thequietresorts.com/events/details/delaware-state-senator-sarah-mcbride-talk-and-conversation-25907
END:VEVENT

END:VCALENDAR
