BEGIN:VCALENDAR
VERSION:2.0
PRODID:-//ChamberMaster//Event Calendar 2.0//EN
METHOD:PUBLISH
X-PUBLISHED-TTL:P3D
REFRESH-INTERVAL:P3D
CALSCALE:GREGORIAN
BEGIN:VEVENT
DTSTART:20201010T150000Z
DTEND:20201011T190000Z
X-MICROSOFT-CDO-ALLDAYEVENT:FALSE
SUMMARY:Delaware Resorts Outdoor Home Expo & Craft Fair
DESCRIPTION:Don't miss the DE Resorts Outdoor Fall Home Expo! Our Spring Outdoor Expo in June was well attended and we look forward to seeing you again at Hudson Fields\, Eagle Crest Road\, just north of Lewes for fun\, fresh air and lots of inspiration! We will have numerous home product and service companies....all at one location. Crafters and produce too. If you are planning on moving to the beach\, remodeling or just sprucing up your home with new ideas the Expo is your best opportunity to obtain LOTS of information in one day! FREE ADMISSION & FREE PARKING! Delicious food prepared by some of the area's top food trucks! Delaware Resorts Outdoor Fall Home Expo October 10th & 11th Hudson Fields\, Eagle Crest Road\, Route 1 Saturday 11-4 Sunday 11-3 Free Admission Area's top Food Trucks www.deexpos.com 302-236-0857
X-ALT-DESC;FMTTYPE=text/html:Don&#39\;t miss the DE Resorts Outdoor Fall Home Expo! Our Spring Outdoor Expo in June was well attended and we look forward to seeing you again at Hudson Fields\, Eagle Crest Road\, just north of Lewes for fun\, fresh air and lots of inspiration! We will have numerous home product and service companies....all at one location. Crafters and produce too. If you are planning on moving to the beach\, remodeling or just sprucing up your home with new ideas the Expo is your best opportunity to obtain LOTS of information in one day! FREE ADMISSION &amp\; FREE PARKING! Delicious food prepared by some of the area&#39\;s top food trucks! Delaware Resorts Outdoor Fall Home Expo October 10th &amp\; 11th Hudson Fields\, Eagle Crest Road\, Route 1 Saturday 11-4 Sunday 11-3 Free Admission Area&#39\;s top Food Trucks www.deexpos.com 302-236-0857
LOCATION:Hudson Fields 29977 Eagle Crest Road\, Milton 19968
UID:e.2126.21748
SEQUENCE:3
DTSTAMP:20260425T115145Z
URL:http://business.thequietresorts.com/events/details/delaware-resorts-outdoor-home-expo-craft-fair-21748
END:VEVENT

END:VCALENDAR
