BEGIN:VCALENDAR
VERSION:2.0
PRODID:-//ChamberMaster//Event Calendar 2.0//EN
METHOD:PUBLISH
X-PUBLISHED-TTL:P3D
REFRESH-INTERVAL:P3D
CALSCALE:GREGORIAN
BEGIN:VEVENT
DTSTART:20230719T120000Z
DTEND:20230719T133000Z
X-MICROSOFT-CDO-ALLDAYEVENT:FALSE
SUMMARY:Delaware Paid Leave Public Forum
DESCRIPTION:The Delaware Department of Labor's Division of Paid Leave is excited to host their first public forum to bring as many Delawareans as possible up to speed on the new Delaware Paid Leave (Family Medical Leave Insurance) Program.  This forum will address topics important to employers and employees.  There will be a presentation on Delaware Paid Leave followed by an open discussion guided by attendee questions.\n\n\n\nThere are in person and virtual options to attend this event.  Visit DEPaidLeaveForum.com to register.
X-ALT-DESC;FMTTYPE=text/html:The Delaware Department of Labor&#39\;s Division of Paid Leave is excited to host their first public forum to bring as many Delawareans as possible up to speed on the new Delaware Paid Leave (Family Medical Leave Insurance) Program.&nbsp\; This forum will address topics important to <strong>employers and employees.</strong>&nbsp\; There will be a presentation on Delaware Paid Leave followed by an open discussion guided by attendee questions.<br />\n<br />\n<strong>There are in person and virtual options to attend this event.&nbsp\; Visit <a href="http://DEPaidLeaveForum.com">DEPaidLeaveForum.com</a> to register.</strong>
LOCATION:Hilton Garden Inn Dover 1706 N. Dupont Highway Dover\, DE 19901
UID:e.2126.26394
SEQUENCE:3
DTSTAMP:20260420T230218Z
URL:http://business.thequietresorts.com/events/details/delaware-paid-leave-public-forum-26394
END:VEVENT

END:VCALENDAR
