BEGIN:VCALENDAR
VERSION:2.0
PRODID:-//ChamberMaster//Event Calendar 2.0//EN
METHOD:PUBLISH
X-PUBLISHED-TTL:P3D
REFRESH-INTERVAL:P3D
CALSCALE:GREGORIAN
BEGIN:VEVENT
DTSTART:20240425T150000Z
DTEND:20240425T160000Z
X-MICROSOFT-CDO-ALLDAYEVENT:FALSE
SUMMARY:Delaware Paid Family Medical Leave Webinar with BBSI
DESCRIPTION:BBSI is hosting an informational webinar for Maryland and Delaware businesses outlining the new state mandated paid leave plans that are coming in 2025 to both states. \n\n \n\nIf you are in Delaware\, there are 3 levels of coverage depending on the size of your company\, but you can opt in to plans if you are otherwise exempt.  \n\nThe webinar will explain how to determine your roster size and information about which employees will be eligible.  Both plans revolve around where the employee works\, not where they live so you'll need to sign up for the webinar where your business is located. \n\n\n\nIf you're a Maryland business that does ancillary work in Delaware you'll be following the Maryland plan.  If you are a Delaware business that does ancillary work in Maryland you'll be following the Delaware plan.  If you have a physical location in each state you'll be running 2 plans based on where the employee reports to work.  \n\n\n\nIf you aren't able to attend\, but want the information\, please register for the webinar(s) that applies to your business and I'll send the recording after the webinar to all registered participants.\n\nPlease click on the link below to register for the webinar that pertains to your location:\n\nDelaware PFML Webinar  Thursday\, April 25th at 11:00 a.m.\n\nMaryland FAMLI Webinar  Thursday\, April 25th at 2:00 p.m.
X-ALT-DESC;FMTTYPE=text/html:<p class="xmsonormal"><span style="font-size:14px\;"><span style="font-family:arial\;">BBSI is hosting an informational webinar for Maryland and Delaware businesses outlining the new state mandated paid leave plans that are coming in 2025 to both states.&nbsp\;<br />\n&nbsp\;<br />\nIf you are in <b>Delaware</b>\, there are 3 levels of coverage depending on the size of your company\, but you can opt in to plans if you are otherwise exempt.&nbsp\; </span></span><o:p></o:p></p>\n\n<p class="xmsonormal"><span style="font-size:14px\;"><span style="font-family:arial\;">The webinar will explain how to determine your roster size and information about which employees will be eligible.&nbsp\; Both plans revolve around where the employee <b><u>works</u></b>\, not where they live so you&rsquo\;ll need to sign up for the webinar where your business is located.&nbsp\;</span></span></p>\n\n<p class="xmsonormal"><o:p></o:p></p>\n\n<p class="xmsonormal"><span style="font-size:14px\;"><span style="font-family:arial\;">If you&rsquo\;re a Maryland business that does ancillary work in Delaware you&rsquo\;ll be following the Maryland plan. &nbsp\;If you are a Delaware business that does ancillary work in Maryland you&rsquo\;ll be following the Delaware plan. &nbsp\;If you have a physical location in each state you&rsquo\;ll be running 2 plans based on where the employee reports to work.&nbsp\; </span></span><o:p></o:p><br />\n<br />\n<span style="font-size:14px\;"><span style="font-family:arial\;">If you aren&rsquo\;t able to attend\, but want the information\, please register for the webinar(s) that applies to your business and I&rsquo\;ll send the recording after the webinar to all registered participants.</span></span><o:p></o:p></p>\n\n<p class="xmsonormal"><span style="font-size:14px\;"><span style="font-family:arial\;">Please click on the link below to register for the webinar that pertains to your location:</span></span></p>\n\n<p class="xmsonormal"><span style="font-size:14px\;"><span style="font-family:arial\;"><a href="https://urldefense.com/v3/__https:/events.teams.microsoft.com/event/c9814f6c-849b-4808-9fa2-3607cab29335@af8bf9d1-b1a5-44d4-9656-158f8e04c92e__\;!!PqOA6w!YZb6ezkoMHxhlKE7yjs-Aol7C7HxCI1JxYeA52n9WJ6TtvHHUwYls1_1kbLJx1yrvqkJ_xy4E7sxLXYClQ$">Delaware PFML Webinar</a>&nbsp\; Thursday\, April 25<sup>th</sup> at 11:00 a.m.</span></span></p>\n\n<p class="xmsonormal"><span style="font-size:14px\;"><span style="font-family:arial\;"><a href="https://urldefense.com/v3/__https:/events.teams.microsoft.com/event/3349aa62-1927-44da-88f1-fc3da8d9f498@af8bf9d1-b1a5-44d4-9656-158f8e04c92e__\;!!PqOA6w!YZb6ezkoMHxhlKE7yjs-Aol7C7HxCI1JxYeA52n9WJ6TtvHHUwYls1_1kbLJx1yrvqkJ_xy4E7u2-84-3Q$">Maryland FAMLI Webinar</a>&nbsp\; Thursday\, April 25<sup>th</sup> at 2:00 p.m.</span></span><o:p></o:p></p>\n
LOCATION:Online
UID:e.2126.29225
SEQUENCE:3
DTSTAMP:20260420T061249Z
URL:http://business.thequietresorts.com/events/details/delaware-paid-family-medical-leave-webinar-with-bbsi-29225
END:VEVENT

END:VCALENDAR
