BEGIN:VCALENDAR
VERSION:2.0
PRODID:-//ChamberMaster//Event Calendar 2.0//EN
METHOD:PUBLISH
X-PUBLISHED-TTL:P3D
REFRESH-INTERVAL:P3D
CALSCALE:GREGORIAN
BEGIN:VEVENT
DTSTART:20230919T220000Z
DTEND:20230919T233000Z
X-MICROSOFT-CDO-ALLDAYEVENT:FALSE
SUMMARY:Delaware Office of Highway Safety Public Forum Town Hall Event at the Georgetown Library
DESCRIPTION:Whether you drive\, ride\, or walk\, this issue affects each member of our community.  Traffic fatalities in Delaware are historically high. All are welcome to join us on the road to better traffic safety. \n\n\n\nRegister here.\n\n\n\nThe Office of Highway Safety is committed to improving safety on Delaware roadways through the administration of federal highway safety funds and the development\, and implementation of highway safety programs to promote safe behaviors by all roadway users\, to reduce and eliminate injuries and fatalities.
X-ALT-DESC;FMTTYPE=text/html:<span style="font-size:14px\;"><span style="font-family:arial\;"><span class="normaltextrun"><span style="color: black\; background-image: initial\; background-position: initial\; background-size: initial\; background-repeat: initial\; background-attachment: initial\; background-origin: initial\; background-clip: initial\;">Whether you drive\, ride\, or walk\, this issue affects each member of our community.&nbsp\; Traffic fatalities in Delaware are historically high. All are welcome to join us on the road to better traffic safety.&nbsp\;<br />\n<br />\nRegister <a href="https://www.eventbrite.com/e/delaware-safer-roads-town-hall-sussex-county-tickets-710454316987">here</a>.</span></span><br />\n<br />\nThe Office of Highway Safety is committed to improving safety on Delaware roadways through the administration of federal highway safety funds and the development\, and implementation of highway safety programs to promote safe behaviors by all roadway users\, to reduce and eliminate injuries and fatalities.</span></span>
LOCATION:Georgetown Public Library 123 W. Pine St. Georgetown\, DE 19947
UID:e.2126.26898
SEQUENCE:3
DTSTAMP:20260420T200316Z
URL:http://business.thequietresorts.com/events/details/delaware-office-of-highway-safety-public-forum-town-hall-event-at-the-georgetown-library-26898
END:VEVENT

END:VCALENDAR
