BEGIN:VCALENDAR
VERSION:2.0
PRODID:-//ChamberMaster//Event Calendar 2.0//EN
METHOD:PUBLISH
X-PUBLISHED-TTL:P3D
REFRESH-INTERVAL:P3D
CALSCALE:GREGORIAN
BEGIN:VEVENT
DTSTART:20220614T200000Z
DTEND:20220614T220000Z
X-MICROSOFT-CDO-ALLDAYEVENT:FALSE
SUMMARY:Delaware Department of Transportation Public Workshop
DESCRIPTION:The Delaware Department of Transportation invites all interested parties to attend a public workshop on the Southeast Sussex Study on Tuesday\, June 14th\, beginning at 4:00 pm at the Indian River High School Auditorium. The project team will provide updates and share the schedule for the remainder of the study. Input and feedback will also be sought from the public on the information being presented. A virtual option will be provided via Zoom and will be conducted simultaneously at the location.\n\n\n\nThe study was developed to evaluate existing conditions and area-wide traffic circulation patterns within the area west of Fenwick Island (generally comprising of Roxana\, Bayard\, and Bunting). Workshop materials will be available online and a recording of the workshop will be available on the website following the workshop.\n\n\n\nInterested persons are encouraged to register to attend the workshop in-person by clicking here. The workshop will consist of a presentation followed by a question and answer period. Comments will be received during the workshop. Comment forms will also be made available and can be submitted online\, or can be mailed to DelDOT Community Relations\, ATTN: Coastal Corridors Study\, PO Box 778\, Dover\, DE 19903 or via email to dotpublic@delaware.gov.
X-ALT-DESC;FMTTYPE=text/html:<span style="font-family:arial\;"><span style="font-size:14px\;">The Delaware Department of Transportation invites all interested parties to attend a public workshop on the Southeast Sussex Study on Tuesday\, June 14th\, beginning at 4:00 pm at the Indian River High School Auditorium. The project team will provide updates and share the schedule for the remainder of the study. Input and feedback will also be sought from the public on the information being presented.&nbsp\;<em>A virtual option will be provided via Zoom and will be conducted simultaneously at the location.</em><br />\n<br />\nThe study was developed to evaluate existing conditions and area-wide traffic circulation patterns within the area west of Fenwick Island (generally comprising of Roxana\, Bayard\, and Bunting). Workshop materials will be available <a href="https://deldot.gov/projects/Studies/southeast-sussex/" target="_blank">online</a> and a recording of the workshop will be available on the website following the workshop.<br />\n<br />\nInterested persons are encouraged to register to attend the workshop in-person by clicking <a href="https://www.eventbrite.com/e/southeast-sussex-public-workshop-tickets-345748913307" target="_blank">here</a>. The workshop will consist of a presentation followed by a question and answer period. Comments will be received during the workshop. Comment forms will also be made available and can be submitted online\, or can be mailed to DelDOT Community Relations\, ATTN: Coastal Corridors Study\, PO Box 778\, Dover\, DE 19903 or via email to dotpublic@delaware.gov.</span></span>
LOCATION:Indian River High School 29772 Armory Rd Dagsboro\, DE 19939
UID:e.2126.23749
SEQUENCE:3
DTSTAMP:20260421T222959Z
URL:http://business.thequietresorts.com/events/details/delaware-department-of-transportation-public-workshop-23749
END:VEVENT

END:VCALENDAR
