BEGIN:VCALENDAR
VERSION:2.0
PRODID:-//ChamberMaster//Event Calendar 2.0//EN
METHOD:PUBLISH
X-PUBLISHED-TTL:P3D
REFRESH-INTERVAL:P3D
CALSCALE:GREGORIAN
BEGIN:VEVENT
DTSTART:20230422T120000Z
DTEND:20230422T160000Z
X-MICROSOFT-CDO-ALLDAYEVENT:FALSE
SUMMARY:Delaware Coastal Community Clean-up
DESCRIPTION:Print Flyer\n\n\n\nJoin the Bethany-Fenwick Area Chamber of Commerce and the Delaware Center for the Inland Bays in celebrating Earth Day at the Coastal Community Clean-up! In partnership with Keep Delaware Beautiful\, Waste Management\, and Surfrider Foundation DE\, groups and individuals alike are invited to celebrate Earth Day by adopting and cleaning a section of roadway throughout coastal Sussex County. \n\n\n\nVolunteer:\n\nIf you would like to volunteer for the cleanup\, please select the register here button at the top of this event page\, enter your information\, and select a cleaning area. If you are flexible to volunteer wherever needed\, you can select that as an option! \n\n\n\nAll registered volunteers will receive check-in details and location information the week of the event. Each cleaning area will be assigned a designated hub location that will be where volunteers will check-in\, receive clean-up supplies\, and discard collected trash.\n\n*More volunteer opportunities may be posted as needed*\n\n\n\nWant to be a cleaning area sponsor or a volunteer liaison? Contact Alyssa at events@thequietresorts.com or call 302-539-2100. \n\n\n\nCoastal Community Check-In Hub Locations:\n\n	North Hub: Delaware Center for Inland Bays\,  39375 Inlet Rd\, Rehoboth Beach\, DE 19971 \n	Selbyville Hub: 1 Church Street (Town Hall)\n	Frankford Hub: Frankford Library 8 Main St\, Frankford\, DE 19945\n	Fred Hudson Hub: Hockers 695 Bethany Loop\, Bethany Beach\, DE 19930\n	Ocean View Hub: John West Park\, 32 West Ave.\, Ocean View\, DE 19970\n	Dagsboro Hub: Parsons Farm\, 30381 Armory Rd.\, Dagsboro DE 19939\n	Frankford Hub: Custom Mechanical\, 34799 Daisey Road\, Frankford\n\nVolunteers who register online will receive their assigned hub location via email no later than Thursday\, April 25. Walk-ups can check in at any of the above locations to receive instructions and supplies.\n\n \nCoastal Community Targeted Cleanup Locations:\n\nRegister to volunteer before Friday\, April 21. Below is the list of areas that you can choose from in the registration process. Every cleaning area will have a capped number of volunteer slots to ensure safety and efficiency. Regardless of your cleaning location\, volunteers must check in at their assigned Hub Location to check-in\, receive supplies\, and access free disposal. \n\n\n	Area 1: Tower Road (Bayside)\n	Area 2: North Side - Indian River Inlet\n	Area 3: Savages Ditch Access Area\n	Area 4: Coastal Highway- North (totem pole to bridge)\n	Area 5: South Side - Indian River Inlet\n	Area 6: Fred Hudson Road *CIB's new Adopt the Roadway location*\n	Area 7: Coastal Highway - South (totem pole to MD state line) \n	Area 8: Burbage Road\n	Area 9: Omar Road\n	Area 10: Muddy Neck Road (West)\n	"Assign Me":  This option means you're flexible and willing to serve wherever needed! If you would like to stay in a general area\, please include any notes in the comment section.\n	Other:  Maybe there is an area not listed that you would like to clean-up. Please fill in details about clean-up location in the comment section of your registration. You will be contacted with a designated check-in/disposal hub.\n\nTag photos with #DECoastalCommunityCleanup and tag @thequietresorts and @deinlandbays to show us how much you were able to collect\, and to encourage others to do the same!\n\n\n\nAdditional Upcoming CIB Community Events:\n\n\n	April 15: Green Screen Environmental Film Festival\n	May 6: Water Family Fest & Native Plant Sale\n	June 3: Stand Up for the Bays Paddle Race & Fest\n\nAdditional Clean-Ups Nearby:\n\nThe Town of Fenwick Island celebrates Earth Day  2023 with Bay to Beach Cleanup sponsored by the Fenwick Island Environmental Committee on April 22 from 8:30AM-10:00AM.\n\n8:30AM: Gather at Town Hall for refreshments\, an appreciation gift and door prizes entry. *cleanup materials and assignments provided*\n\n                Enjoy an educational display on Marine Mammals sponsored by the MERR Institute\n\n9:00AM: Clean assigned area\n\n10:00AM: Return to Town Hall for trash disposal\, a group photo\, and door prize drawings
X-ALT-DESC;FMTTYPE=text/html:<br />\n<span style="font-family: arial\;"><span style="font-size: 14px\;"><a href="https://chambermaster.blob.core.windows.net/userfiles/UserFiles/chambers/2126/File/CommunityCleanupFlyer20232.pdf">Print Flyer</a><br />\n<br />\nJoin the Bethany-Fenwick Area Chamber of Commerce and the Delaware Center for the Inland Bays in celebrating Earth Day at the Coastal Community Clean-up! In partnership with Keep Delaware Beautiful\, Waste Management\, and Surfrider Foundation DE\, groups and individuals alike are invited to celebrate Earth Day by adopting and cleaning a section of roadway throughout coastal Sussex County.&nbsp\;</span><br />\n<br />\n<span style="font-size: 18px\;"><strong>Volunteer:</strong></span><br />\n<span style="font-size: 14px\;">If you would like to volunteer for the cleanup\, please select the register here button at the top of this event page\, enter your information\, and select a cleaning area. If you are flexible to volunteer wherever needed\, you can select that as an option!&nbsp\;</span><br />\n<br />\n<span style="font-size: 14px\; color: rgb(51\, 51\, 51)\; background-color: rgb(255\, 255\, 255)\;"><strong>All registered volunteers will receive check-in details and location information the week of the event. Each cleaning area will be assigned a designated hub location that will be where volunteers will check-in\, receive clean-up supplies\, and discard collected trash.</strong><br />\n<em>*More volunteer opportunities may be posted as needed*</em></span><br />\n<br />\n<span style="font-size: 14px\;">Want to be a cleaning area sponsor or a volunteer liaison? Contact Alyssa at events@thequietresorts.com or call 302-539-2100.&nbsp\;</span></span><br />\n<br />\n<strong style="color: rgb(51\, 51\, 51)\; font-family: arial\; background-color: rgb(255\, 255\, 255)\; font-size: 14px\;"><span style="font-size: 18px\;">Coastal Community Check-In Hub Locations:</span></strong>\n<ul>\n	<li><strong><span style="font-size:14px\;"><span style="color: rgb(51\, 51\, 51)\; font-family: sans-serif\, Arial\, Verdana\, &quot\;Trebuchet MS&quot\;\; background-color: rgb(255\, 255\, 255)\;">North Hub: Delaware Center for Inland Bays\,&nbsp\;<span style="color: rgb(51\, 51\, 51)\; font-family: sans-serif\, Arial\, Verdana\, &quot\;Trebuchet MS&quot\;\; background-color: rgb(255\, 255\, 255)\; white-space: pre\;"> </span></span></span></strong><span style="font-size:14px\;"><span style="color: rgb(51\, 51\, 51)\; font-family: sans-serif\, Arial\, Verdana\, &quot\;Trebuchet MS&quot\;\; background-color: rgb(255\, 255\, 255)\;">39375 Inlet Rd\, Rehoboth Beach\, DE 19971</span></span><strong><span style="font-size:14px\;"><span style="color: rgb(51\, 51\, 51)\; font-family: sans-serif\, Arial\, Verdana\, &quot\;Trebuchet MS&quot\;\; background-color: rgb(255\, 255\, 255)\;">&#8203\;</span></span></strong></li>\n	<li><strong><span style="font-size:14px\;">Selbyville Hub: </span></strong><span style="font-size:14px\;">1 Church Street (Town Hall)</span></li>\n	<li><strong><span style="font-size:14px\;">Frankford Hub: Frankford Library<span style="white-space:pre"> </span></span></strong><span style="font-size:14px\;">8 Main St\, Frankford\, DE 19945</span></li>\n	<li><strong><span style="font-size:14px\;">Fred Hudson Hub: Hockers<span style="white-space:pre"> </span></span></strong><span style="font-size:14px\;">695 Bethany Loop\, Bethany Beach\, DE 19930</span></li>\n	<li><strong><span style="font-size:14px\;">Ocean View Hub: John West Park\, </span></strong><span style="font-size:14px\;">32 West Ave.\, Ocean View\, DE 19970</span></li>\n	<li><strong><span style="font-size:14px\;">Dagsboro Hub: Parsons Farm\,<span style="white-space:pre"> </span></span></strong><span style="font-size:14px\;">30381 Armory Rd.\, Dagsboro DE 19939</span></li>\n	<li><strong><span style="font-size:14px\;">Frankford Hub: Custom Mechanical\,<span style="white-space:pre"> </span></span></strong><span style="font-size:14px\;">34799 Daisey Road\, Frankford</span></li>\n</ul>\n<strong><span style="font-size:14px\;">Volunteers who register online will receive their assigned hub location via email no later than Thursday\, April 25. Walk-ups can check in at any of the above locations to receive instructions and supplies.</span></strong>\n\n<div>&nbsp\;</div>\n<span style="font-family: arial\;"><strong style="font-size: 14px\;"><span style="font-size:18px\;">Coastal Community Targeted Cleanup Locations:</span></strong></span><br />\n<span style="font-size:14px\;">Register to volunteer before Friday\, April 21. Below is the list of areas that you can choose from in the registration process. Every cleaning area will have a capped number of volunteer slots to ensure safety and efficiency. Regardless of your cleaning location\, volunteers must check in at their assigned Hub Location to check-in\, receive supplies\, and access free disposal.&nbsp\;</span>\n\n<ul>\n	<li><span style="font-size:14px\;"><span style="font-family:arial\;">Area 1: Tower Road (Bayside)</span></span></li>\n	<li><span style="font-size:14px\;"><span style="font-family:arial\;">Area 2: North Side - Indian River Inlet</span></span></li>\n	<li><span style="font-size:14px\;"><span style="font-family:arial\;">Area 3: Savages Ditch Access Area</span></span></li>\n	<li><span style="font-size:14px\;"><span style="font-family:arial\;">Area 4:&nbsp\;</span></span><span style="color: rgb(51\, 51\, 51)\; font-family: arial\; font-size: 14px\; background-color: rgb(255\, 255\, 255)\;">Coastal Highway- North (</span><span style="color: rgb(51\, 51\, 51)\; font-family: arial\; font-size: 14px\; background-color: rgb(255\, 255\, 255)\;">totem pole</span><span style="color: rgb(51\, 51\, 51)\; font-family: arial\; font-size: 14px\; background-color: rgb(255\, 255\, 255)\;">&nbsp\;to bridge</span><span style="color: rgb(51\, 51\, 51)\; font-family: arial\; font-size: 14px\; background-color: rgb(255\, 255\, 255)\;">)</span></li>\n	<li><span style="font-size:14px\;"><span style="font-family:arial\;">Area 5: South Side - Indian River Inlet</span></span></li>\n	<li><span style="font-size:14px\;"><span style="font-family:arial\;">Area 6: Fred Hudson Road *CIB&#39\;s new Adopt the Roadway location*</span></span></li>\n	<li><span style="font-size:14px\;"><span style="font-family:arial\;">Area 7: Coastal Highway - South (totem pole to MD state line)&nbsp\;</span></span></li>\n	<li><span style="font-size:14px\;"><span style="font-family:arial\;">Area 8: Burbage Road</span></span></li>\n	<li><span style="font-size:14px\;"><span style="font-family:arial\;">Area 9: Omar Road</span></span></li>\n	<li><span style="font-size:14px\;"><span style="font-family:arial\;">Area 10: Muddy Neck Road (West)</span></span></li>\n	<li><span style="font-size:14px\;"><span style="font-family:arial\;">&quot\;Assign Me&quot\;</span></span>:&nbsp\;<span style="font-size:14px\;"><span style="font-family:arial\;">&#8203\;</span></span><span style="color: rgb(51\, 51\, 51)\; font-family: arial\; font-size: 14px\; background-color: rgb(255\, 255\, 255)\;">This option means you&#39\;re flexible and willing to serve wherever needed! If you would like to stay in a general area\, please include any notes in the comment section.</span></li>\n	<li><span style="font-size:14px\;"><span style="font-family:arial\;">Other</span></span>:&nbsp\;<span style="color: rgb(51\, 51\, 51)\; font-family: arial\; font-size: 14px\; background-color: rgb(255\, 255\, 255)\;">&nbsp\;Maybe there is an area not listed that you would like to clean-up. Please fill in details about clean-up location in the comment section of your registration.&nbsp\;You will be contacted with a designated check-in/disposal hub.</span></li>\n</ul>\n<strong><em style="color: rgb(51\, 51\, 51)\; font-family: arial\; font-size: 14px\; background-color: rgb(255\, 255\, 255)\;">Tag photos with #DECoastalCommunityCleanup and tag @thequietresorts and @deinlandbays to show us how much you were able to collect\, and to encourage others to do the same!</em></strong><br />\n<br />\n<strong><span style="font-size:18px\;"><span style="font-family:arial\;">Additional Upcoming CIB Community Events:</span></span></strong>\n\n<ul>\n	<li><span style="font-size:14px\;"><span style="font-family:arial\;">April 15:&nbsp\;<a href="https://inlandbays.harnessgiving.org/events/362">Green Screen Environmental Film Festival</a></span></span></li>\n	<li><span style="font-size:14px\;"><span style="font-family:arial\;">May 6: <a href="https://www.inlandbays.org/events/water-family-fest-native-plant-sale/">Water Family Fest &amp\; Native Plant Sale</a></span></span></li>\n	<li><span style="font-size:14px\;"><span style="font-family:arial\;">June 3: <a href="https://www.inlandbays.org/events/save-the-date-stand-up-for-the-bays-paddle-race-fest/">Stand Up for the Bays Paddle Race &amp\; Fest</a></span></span></li>\n</ul>\n<font face="arial"><span style="font-size: 14px\;"><strong><span style="font-size:16px\;">Additional Clean-Ups Nearby:</span></strong><br />\nThe Town of Fenwick Island celebrates Earth Day&nbsp\; 2023 with Bay to Beach Cleanup sponsored by the Fenwick Island Environmental Committee on April 22 from 8:30AM-10:00AM.<br />\n8:30AM: Gather at Town Hall for refreshments\, an appreciation gift and door prizes entry. *cleanup materials and assignments provided*</span></font><br />\n&nbsp\;&nbsp\;&nbsp\;&nbsp\;&nbsp\;&nbsp\;&nbsp\;&nbsp\;&nbsp\;&nbsp\;&nbsp\;&nbsp\;&nbsp\; &nbsp\; Enjoy an educational display on Marine Mammals sponsored by the MERR Institute<br />\n9:00AM: Clean assigned area<br />\n10:00AM: Return to Town Hall for trash disposal\, a group photo\, and door prize drawings
LOCATION:The Quiet Resorts
UID:e.2126.25178
SEQUENCE:3
DTSTAMP:20260421T040504Z
URL:http://business.thequietresorts.com/events/details/delaware-coastal-community-clean-up-25178
END:VEVENT

END:VCALENDAR
