BEGIN:VCALENDAR
VERSION:2.0
PRODID:-//ChamberMaster//Event Calendar 2.0//EN
METHOD:PUBLISH
X-PUBLISHED-TTL:P3D
REFRESH-INTERVAL:P3D
CALSCALE:GREGORIAN
BEGIN:VEVENT
DTSTART:20240625T180000Z
DTEND:20240625T190000Z
X-MICROSOFT-CDO-ALLDAYEVENT:FALSE
SUMMARY:Delaware Broadband Office Quarterly Virtual Townhall
DESCRIPTION:Please join the Delaware Broadband Office next Tuesday\, June 25\, from 2:00   3:00 PM for another in our quarterly virtual townhalls. We will provide updates on our high-speed internet deployment programs funded by the American Rescue Plan Act and the Broadband Equity\, Access\, and Deployment (BEAD) Program. We will also give an update on our Digital Equity program\, including our upcoming competitive grant program.\n\n \n\nAnyone is welcome to attend but registration is required. You can watch on Zoom or call-in from a telephone\, both the link and call-in information is available when you register.\n\n \n\nDelaware Broadband Office Quarterly Virtual Townhall\n\nTuesday\, June 25\n\n2:00   3:00 PM\n\nRegister Here
X-ALT-DESC;FMTTYPE=text/html:Please join the Delaware Broadband Office next Tuesday\, June 25\, from 2:00 &ndash\; 3:00 PM for another in our quarterly virtual townhalls. We will provide updates on our high-speed internet deployment programs funded by the American Rescue Plan Act and the <a href="https://broadband.delaware.gov/pages/index.shtml?dc=bead">Broadband Equity\, Access\, and Deployment (BEAD) Program</a>. We will also give an update on our <a href="https://broadband.delaware.gov/pages/index.shtml?dc=digitalEquity">Digital Equity</a> program\, including our upcoming competitive grant program.<br />\n&nbsp\;<br />\nAnyone is welcome to attend but <a href="https://zoom.us/webinar/register/WN_ZIEyLCtJT12tPGQQem6-dg">registration is required</a>. You can watch on Zoom or call-in from a telephone\, both the link and call-in information is available when you register.<br />\n&nbsp\;<br />\n<strong><u>Delaware Broadband Office Quarterly Virtual Townhall</u></strong><br />\nTuesday\, June 25<br />\n2:00 &ndash\; 3:00 PM<br />\n<span style="font-family:calibri\,sans-serif\;"><span style="font-size:11.0pt\;"><a href="https://zoom.us/webinar/register/WN_ZIEyLCtJT12tPGQQem6-dg">Register Here</a></span></span>
LOCATION:Online
UID:e.2126.30303
SEQUENCE:3
DTSTAMP:20260420T090938Z
URL:http://business.thequietresorts.com/events/details/delaware-broadband-office-quarterly-virtual-townhall-30303
END:VEVENT

END:VCALENDAR
