BEGIN:VCALENDAR
VERSION:2.0
PRODID:-//ChamberMaster//Event Calendar 2.0//EN
METHOD:PUBLISH
X-PUBLISHED-TTL:P3D
REFRESH-INTERVAL:P3D
CALSCALE:GREGORIAN
BEGIN:VEVENT
DTSTART:20230316T160000Z
DTEND:20230316T160000Z
X-MICROSOFT-CDO-ALLDAYEVENT:FALSE
SUMMARY:Delaware Botanic Gardens Season Opening
DESCRIPTION:March 16\, Thursday: Welcome Spring - 2023 Season Opening Day at Delaware Botanic Gardens at Pepper Creek. Open from 9 a.m. to 4 p.m. Over 200\,000 spring bulbs planted in five main gardens\; Rhyne Garden\, Piet Oudolf Meadow Garden\, Learning Garden\, Folly Garden and Woodlands Garden\, on 37-acre natural site. Winding wide ADA compatible walking trails\, with 1\,000 feet of shoreline. 30220 Piney Neck Rd.\, Dagsboro\, DE 19939. Members admission Free and $10 for tour/class fee and Non-members admission $15 admission and class fee/tour of $10. Children 16 and under have free admission and tour/class. Reserve Tickets at delawaregardens.org.
X-ALT-DESC;FMTTYPE=text/html:March 16\, Thursday: Welcome Spring - 2023 Season Opening Day at Delaware Botanic Gardens at Pepper Creek. Open from 9 a.m. to 4 p.m. Over 200\,000 spring bulbs planted in five main gardens\; Rhyne Garden\, Piet Oudolf Meadow Garden\, Learning Garden\, Folly Garden and Woodlands Garden\, on 37-acre natural site. Winding wide ADA compatible walking trails\, with 1\,000 feet of shoreline. 30220 Piney Neck Rd.\, Dagsboro\, DE 19939. Members admission Free and $10 for tour/class fee and Non-members admission $15 admission and class fee/tour of $10. Children 16 and under have free admission and tour/class. Reserve Tickets at delawaregardens.org.
LOCATION:30220 Piney Neck Road Dagsboro\, DE 19930
UID:e.2126.25187
SEQUENCE:3
DTSTAMP:20260421T060040Z
URL:http://business.thequietresorts.com/events/details/delaware-botanic-gardens-season-opening-25187
END:VEVENT

END:VCALENDAR
