BEGIN:VCALENDAR
VERSION:2.0
PRODID:-//ChamberMaster//Event Calendar 2.0//EN
METHOD:PUBLISH
X-PUBLISHED-TTL:P3D
REFRESH-INTERVAL:P3D
CALSCALE:GREGORIAN
BEGIN:VEVENT
DTSTART:20220317T150000Z
DTEND:20220317T170000Z
X-MICROSOFT-CDO-ALLDAYEVENT:FALSE
SUMMARY:Delaware Botanic Gardens Ribbon Cutting
DESCRIPTION:Join us at Delaware Botanic Gardens for their Ribbon Cutting Ceremony celebrating their expansion and renovations on Thursday\, March 17\, 2022 with the welcome starting at 11:00 am and ribbon cutting at noon.\n\n\n\nThe new 800-square-foot rustic cedar Restroom Building has unique features\, including the entrance "Living Wall" of Plants\, "Cistern" to capture rain to water plants\, and "Rain Garden" by the building deck as the newest addition to the West Woodlands Garden. DNREC supported the building's "Green" features.\n\n\n\nAt the noon Restroom Building ribbon cutting ceremony speakers will include:\n\n\n\nRay Sander\, President of DBG\n\nSheryl Swed\, Executive Director of DBG\n\nMichael Vincent\, President Sussex County Council\n\nDavid Small\, Chair\, DBG Advisory Council\n\nMark Chura\, Executive Director\, Sussex County Land Trust\n\nScott Edmonston\, SEA Architects (Pro-bono Architects)\n\nWanderson Norirga WN Builders\n\nBen Cloverdale\, DNREC (invited)\n\nState Senator Gerald Hocker (invited)\n\nState Representative Ron Gray (invited)\n\n\n\nOn March 17th\, the gardens will be open to the public at 9:00 a.m. In addition to the new building\, new garden features installed over the winter include 84\,000 new spring bulbs planted in the 2-acre Piet Oudolf Meadow Garden\, and the new reflecting pool in the Folly Garden\, with an additional 37\,500 plants and bulbs.\n\n\n\nBeginning March 17th\, Delaware Botanic Gardens will be open to the public Thursdays through Sundays from 9:00 a.m. to 4:00 p.m. and is located at 30220 Piney Neck Road\, Dagsboro\, DE 19939. Go to www.delawaregardens.org.
X-ALT-DESC;FMTTYPE=text/html:Join us at Delaware Botanic Gardens for their Ribbon Cutting Ceremony celebrating their expansion and renovations on Thursday\, March 17\, 2022 with the welcome starting at 11:00 am and ribbon cutting at noon.<br />\n<br />\nThe new 800-square-foot rustic cedar Restroom Building has unique features\, including the entrance &ldquo\;Living Wall&rdquo\; of Plants\, &ldquo\;Cistern&rdquo\; to capture rain to water plants\, and &ldquo\;Rain Garden&rdquo\; by the building deck as the newest addition to the West Woodlands Garden. DNREC supported the building&rsquo\;s &ldquo\;Green&rdquo\; features.<br />\n<br />\nAt the noon Restroom Building ribbon cutting ceremony speakers will include:<br />\n<br />\nRay Sander\, President of DBG<br />\nSheryl Swed\, Executive Director of DBG<br />\nMichael Vincent\, President Sussex County Council<br />\nDavid Small\, Chair\, DBG Advisory Council<br />\nMark Chura\, Executive Director\, Sussex County Land Trust<br />\nScott Edmonston\, SEA Architects (Pro-bono Architects)<br />\nWanderson Norirga WN Builders<br />\nBen Cloverdale\, DNREC (invited)<br />\nState Senator Gerald Hocker (invited)<br />\nState Representative Ron Gray (invited)<br />\n<br />\nOn March 17th\, the gardens will be open to the public at 9:00 a.m. In addition to the new building\, new garden features installed over the winter include 84\,000 new spring bulbs planted in the 2-acre Piet Oudolf Meadow Garden\, and the new reflecting pool in the Folly Garden\, with an additional 37\,500 plants and bulbs.<br />\n<br />\nBeginning March 17th\, Delaware Botanic Gardens will be open to the public Thursdays through Sundays from 9:00 a.m. to 4:00 p.m. and is located at 30220 Piney Neck Road\, Dagsboro\, DE 19939. Go to www.delawaregardens.org.<br />\n&nbsp\;
LOCATION:Delaware Botanic Gardens 30220 Piney Neck Rd. Dagsboro\, DE 19939
UID:e.2126.23445
SEQUENCE:3
DTSTAMP:20260424T041507Z
URL:http://business.thequietresorts.com/events/details/delaware-botanic-gardens-ribbon-cutting-23445
END:VEVENT

END:VCALENDAR
