BEGIN:VCALENDAR
VERSION:2.0
PRODID:-//ChamberMaster//Event Calendar 2.0//EN
METHOD:PUBLISH
X-PUBLISHED-TTL:P3D
REFRESH-INTERVAL:P3D
CALSCALE:GREGORIAN
BEGIN:VEVENT
DTSTART:20200120T150000Z
DTEND:20200120T180000Z
X-MICROSOFT-CDO-ALLDAYEVENT:FALSE
SUMMARY:Delaware Botanic Gardens - Open House
DESCRIPTION:Martin Luther King Day - Open House\n\nWe invite you to visit our gardens and enjoy our natural beauty with your family.\n\nLearn more about the Delaware Botanic Gardens at http://www.delawaregardens.org.
X-ALT-DESC;FMTTYPE=text/html:Martin Luther King Day - Open House<br />\nWe invite you to visit our gardens and enjoy our natural beauty with your family.<br />\nLearn more about the Delaware Botanic Gardens at <a href="http://www.delawaregardens.org">http://www.delawaregardens.org</a>.<br />\n<br />\n&nbsp\;
LOCATION:30220 Piney Neck Road Dagsboro\, DE 19939
UID:e.2126.19684
SEQUENCE:3
DTSTAMP:20260426T034442Z
URL:http://business.thequietresorts.com/events/details/delaware-botanic-gardens-open-house-19684
END:VEVENT

END:VCALENDAR
