BEGIN:VCALENDAR
VERSION:2.0
PRODID:-//ChamberMaster//Event Calendar 2.0//EN
METHOD:PUBLISH
X-PUBLISHED-TTL:P3D
REFRESH-INTERVAL:P3D
CALSCALE:GREGORIAN
BEGIN:VEVENT
DTSTART:20210508T130000Z
DTEND:20210508T180000Z
X-MICROSOFT-CDO-ALLDAYEVENT:FALSE
SUMMARY:Delaware Aviation Museum Foundation Pancake Breakfast
DESCRIPTION:PANCAKE BREAKFAST AND OPEN HOUSE FLY OR DRIVE IN\n\n \n\nDelaware Aviation Museum Foundation (DAMF) is holding a fundraiser for the museum at the museum and hangar.  \n\n	Time is from 9 am to 2 pm\n	Pancake breakfast cost is by donation.\n	Open House Events\n	\n		Flight Adventures will be available in the WWII B-25\, Korean War Era L-16 and Vietnam Era L-19 by going to https://www.delawareaviationmuseum.org/damf/lhfe/rides.html to make your reservation.\n		DAMF Executive Director\, Larry Kelley\, will be offering a brief history on the North American B-25 bomber\, the Doolittle Raid and a tour of the museum artifacts and aircraft. \n	\n	\n\n This is an incredibly unique opportunity to learn about a part of military aviation and experience flight in these warbirds.  Please RSVP through Event Brite at https://www.eventbrite.com/e/delaware-aviation-museum-foundation-damf-open-house-and-pancake-breakfast-tickets-147862098517
X-ALT-DESC;FMTTYPE=text/html:<span style="font-size:14px\;"><span style="font-family:arial\;">&nbsp\;PANCAKE BREAKFAST AND OPEN HOUSE FLY OR DRIVE IN<br />\n&nbsp\;<br />\nDelaware Aviation Museum Foundation (DAMF) is holding a fundraiser for the museum at the museum and hangar.&nbsp\; </span></span>\n<ul>\n	<li style="text-align:justify\;"><span style="font-size:14px\;"><span style="font-family:arial\;">Time is from 9 am to 2 pm</span></span></li>\n	<li style="text-align:justify\;"><span style="font-size:14px\;"><span style="font-family:arial\;">Pancake breakfast cost is by donation.</span></span></li>\n	<li style="text-align:justify\;"><span style="font-size:14px\;"><span style="font-family:arial\;">Open House Events</span></span>\n	<ul style="list-style-type:circle\;">\n		<li style="text-align:justify\;"><span style="font-size:14px\;"><span style="font-family:arial\;">Flight Adventures will be available in the WWII B-25\, Korean War Era L-16 and Vietnam Era L-19 by going to <a href="https://www.delawareaviationmuseum.org/damf/lhfe/rides.html">https://www.delawareaviationmuseum.org/damf/lhfe/rides.html</a> to make your reservation.</span></span></li>\n		<li style="text-align:justify\;"><span style="font-size:14px\;"><span style="font-family:arial\;">DAMF Executive Director\, Larry Kelley\, will be offering a brief history on the North American B-25 bomber\, the Doolittle Raid and a tour of the museum artifacts and aircraft. </span></span></li>\n	</ul>\n	</li>\n</ul>\n<span style="font-size:14px\;"><span style="font-family:arial\;"> This is an incredibly unique opportunity to learn about a part of military aviation and experience flight in these warbirds.&nbsp\; Please RSVP through Event Brite at <a href="https://www.eventbrite.com/e/delaware-aviation-museum-foundation-damf-open-house-and-pancake-breakfast-tickets-147862098517">https://www.eventbrite.com/e/delaware-aviation-museum-foundation-damf-open-house-and-pancake-breakfast-tickets-147862098517</a></span></span>
LOCATION:DELAWARE AVIATION MUSEUM FOUNDATION 21781 Aviation Ave. Georgetown\, DE 19947
UID:e.2126.22005
SEQUENCE:3
DTSTAMP:20260424T203744Z
URL:http://business.thequietresorts.com/events/details/delaware-aviation-museum-foundation-pancake-breakfast-22005
END:VEVENT

END:VCALENDAR
