BEGIN:VCALENDAR
VERSION:2.0
PRODID:-//ChamberMaster//Event Calendar 2.0//EN
METHOD:PUBLISH
X-PUBLISHED-TTL:P3D
REFRESH-INTERVAL:P3D
CALSCALE:GREGORIAN
BEGIN:VEVENT
DTSTART:20221002T150000Z
DTEND:20221002T170000Z
X-MICROSOFT-CDO-ALLDAYEVENT:FALSE
SUMMARY:Dedication of the Labyrinth at Ocean View
DESCRIPTION:Ocean View Presbyterian Church invites all for refreshments\, and special speakers as we dedicate this gift to the community on Sunday\, October 2\, 2022\, at 11:00am. The labyrinth is a sacred symbol has been used by many cultures and religious traditions and offer deep spiritual\, emotional and physical comfort to those who take advantage of this powerful yet calming experience.  The Labyrinth at Ocean View Is 50 feet in diameter and has six walking circuits with a walking path leading up to it.
X-ALT-DESC;FMTTYPE=text/html:<span style="font-size:14px">Ocean View Presbyterian Church invites all for refreshments\, and special speakers as we dedicate this gift to the community on Sunday\, October 2\, 2022\,&nbsp\;at 11:00am.&nbsp\;The labyrinth is a sacred symbol has been used by many cultures and religious traditions and offer deep spiritual\, emotional and physical comfort to those who take advantage of this powerful yet calming experience.&nbsp\;&nbsp\;The Labyrinth at Ocean View&nbsp\;Is 50 feet in diameter and has six walking circuits with a walking path leading up to it.</span>
LOCATION:67 Central Avenue Ocean View\, DE 19970
UID:e.2126.24192
SEQUENCE:3
DTSTAMP:20260421T173216Z
URL:http://business.thequietresorts.com/events/details/dedication-of-the-labyrinth-at-ocean-view-24192
END:VEVENT

END:VCALENDAR
