BEGIN:VCALENDAR
VERSION:2.0
PRODID:-//ChamberMaster//Event Calendar 2.0//EN
METHOD:PUBLISH
X-PUBLISHED-TTL:P3D
REFRESH-INTERVAL:P3D
CALSCALE:GREGORIAN
BEGIN:VEVENT
DTSTART:20230805T230000Z
DTEND:20230806T020000Z
X-MICROSOFT-CDO-ALLDAYEVENT:FALSE
SUMMARY:Dean Ford & The Beautiful Ones — A Tribute 2 Prince
DESCRIPTION:TICKETS ARE $25\, CHILDREN 12 AND UNDER ARE FREE\n\nDressed 2 the 9's\, Dean Ford embodies PRINCE with every fiber of his being\, giving you a show built out of a lifelong love and respect for the artist. Ford and company perform all the hits you know and love\, including every song from the "Purple Rain" album. But\, it's more than just the songs. He's got the look\, the moves\, and the sounds down jaw-droppingly well. So well\, you'll forget it's only a tribute.\n\nIt all started in 2011\, when Dean Ford and his musician friends put on their first of many sold out tributes to the Purple One in Portland\, Maine. Past shows have featured Prince and The Revolution's own keyboardist Matt "Doctor" Fink. Lately\, Ford has been sticking with a rotation of his core band\, The Beautiful Ones. Though\, he and the band have plenty of surprises up their frilled sleeves.\n\nThe Beautiful Ones have performed at venues including:\n\n\n	CASINOS:\n	\n		INDIANA   The Tropicana (Evansville)\n		NEW JERSEY   Hard Rock Casino (Atlantic City)     Golden Nugget (Atlantic City)\n		NEW YORK   Akwesasne Mohawk Casino (Hogansburg)     Vernon Downs (Vernon)\n		PENNSYLVANIA   SugarHouse Casino (Philadelphia)     Mohegan Sun (Wilkes-Barre)\n	\n	\n	THEATERS & OTHER VENUES:\n	\n		CANADA   Calistoga Grill (Pointe-Claire\, QC)\n		CONNECTICUT   The Kate (Old Saybrook)     Ives Concert Park (Danbury)     Joey C's (Stratford)\n		FLORIDA   Haven Lounge (Orlando)     1904 Music Hall (Jacksonville)\n		INDIANA   Rock 'N Rail (Griffith)\n		MAINE   Vinegar Hill (Arundel)     Aura (Portland)     State Theatre (Portland)     Port City Music Hall (Portland)     BAE (Bangor)     Cross Insurance Center (Bangor)     DownUnder Club (Bangor)     Mine Oyster (Boothbay)     Moose Alley (Rangeley)     Waterville Opera House (Waterville)\n		MASSACHUSETTS   The Cannery Music Hall (Southbridge)     Ralph's Rock Diner (Worcester)\n		NEW HAMPSHIRE   Dover Brickhouse (Dover)     Shaskeen (Manchester)\n		NEW YORK   Jupiter Hall (Albany)     Arlene's Grocery (NYC)     The Westcott Theater (Syracuse)     Funk 'n Waffles (Syracuse)\n		OHIO   Civic Music Hall (Toledo)\n		PENNSYLVANIA   Mauch Chunk Opera House (Jim Thorpe)     River Jazz Cafe (Plains)     Ritz Theatre (Scranton)\n		RHODE ISLAND   Courthouse Center for the Arts (West Kingston)\n		VERMONT   Maple Tree Place (Williston)\n		and more  \n	\n	\n\n\nHear   and see   for yourself what it sounds like when Dean Ford's doves cry.
X-ALT-DESC;FMTTYPE=text/html:<h6>TICKETS ARE $25\, CHILDREN 12 AND UNDER ARE FREE</h6>\n\n<p>Dressed 2 the 9&#39\;s\, Dean Ford embodies PRINCE with every fiber of his being\, giving you a show built out of a lifelong love and respect for the artist. Ford and company perform all the hits you know and love\, including every song from the &ldquo\;Purple Rain&rdquo\; album. But\, it&#39\;s more than just the songs. He&#39\;s got the look\, the moves\, and the sounds down jaw-droppingly well. So well\, you&#39\;ll forget it&#39\;s only a tribute.</p>\n\n<p>It all started in 2011\, when Dean Ford and his musician friends put on their first of many sold out tributes to the Purple One in Portland\, Maine. Past shows have featured Prince and The Revolution&rsquo\;s own keyboardist Matt &ldquo\;Doctor&rdquo\; Fink. Lately\, Ford has been sticking with a rotation of his core band\, The Beautiful Ones. Though\, he and the band have plenty of surprises up their frilled sleeves.</p>\n\n<p>The Beautiful Ones have performed at venues including:</p>\n\n<ul>\n	<li>CASINOS:\n	<ul>\n		<li>INDIANA &mdash\; The Tropicana (Evansville)</li>\n		<li>NEW JERSEY &mdash\; Hard Rock Casino (Atlantic City) &acirc\;&oelig\;&laquo\; Golden Nugget (Atlantic City)</li>\n		<li>NEW YORK &mdash\; Akwesasne Mohawk Casino (Hogansburg) &acirc\;&oelig\;&laquo\; Vernon Downs (Vernon)</li>\n		<li>PENNSYLVANIA &mdash\; SugarHouse Casino (Philadelphia) &acirc\;&oelig\;&laquo\; Mohegan Sun (Wilkes-Barre)</li>\n	</ul>\n	</li>\n	<li>THEATERS &amp\; OTHER VENUES:\n	<ul>\n		<li>CANADA &mdash\; Calistoga Grill (Pointe-Claire\, QC)</li>\n		<li>CONNECTICUT &mdash\; The Kate (Old Saybrook) &acirc\;&oelig\;&laquo\; Ives Concert Park (Danbury) &acirc\;&oelig\;&laquo\; Joey C&#39\;s (Stratford)</li>\n		<li>FLORIDA &mdash\; Haven Lounge (Orlando) &acirc\;&oelig\;&laquo\; 1904 Music Hall (Jacksonville)</li>\n		<li>INDIANA &mdash\; Rock &lsquo\;N Rail (Griffith)</li>\n		<li>MAINE &mdash\; Vinegar Hill (Arundel) &acirc\;&oelig\;&laquo\; Aura (Portland) &acirc\;&oelig\;&laquo\; State Theatre (Portland) &acirc\;&oelig\;&laquo\; Port City Music Hall (Portland) &acirc\;&oelig\;&laquo\; BAE (Bangor) &acirc\;&oelig\;&laquo\; Cross Insurance Center (Bangor) &acirc\;&oelig\;&laquo\; DownUnder Club (Bangor) &acirc\;&oelig\;&laquo\; Mine Oyster (Boothbay) &acirc\;&oelig\;&laquo\; Moose Alley (Rangeley) &acirc\;&oelig\;&laquo\; Waterville Opera House (Waterville)</li>\n		<li>MASSACHUSETTS &mdash\; The Cannery Music Hall (Southbridge) &acirc\;&oelig\;&laquo\; Ralph&#39\;s Rock Diner (Worcester)</li>\n		<li>NEW HAMPSHIRE &mdash\; Dover Brickhouse (Dover) &acirc\;&oelig\;&laquo\; Shaskeen (Manchester)</li>\n		<li>NEW YORK &mdash\; Jupiter Hall (Albany) &acirc\;&oelig\;&laquo\; Arlene&rsquo\;s Grocery (NYC) &acirc\;&oelig\;&laquo\; The Westcott Theater (Syracuse) &acirc\;&oelig\;&laquo\; Funk &#39\;n Waffles (Syracuse)</li>\n		<li>OHIO &mdash\; Civic Music Hall (Toledo)</li>\n		<li>PENNSYLVANIA &mdash\; Mauch Chunk Opera House (Jim Thorpe) &acirc\;&oelig\;&laquo\; River Jazz Cafe (Plains) &acirc\;&oelig\;&laquo\; Ritz Theatre (Scranton)</li>\n		<li>RHODE ISLAND &mdash\; Courthouse Center for the Arts (West Kingston)</li>\n		<li>VERMONT &mdash\; Maple Tree Place (Williston)</li>\n		<li>and more&hellip\;&nbsp\;</li>\n	</ul>\n	</li>\n</ul>\n\n<p>Hear &ndash\; and see &ndash\; for yourself what it sounds like when Dean Ford&rsquo\;s doves cry.</p>\n
LOCATION:Freeman Arts Pavilion a program of the Joshua M. Freeman Foundation is a champion of the arts on Delmarva\, providing diverse arts performances as well as arts access programs for local schools and the community at large. From June-September the Freeman Arts Pavilion is an open-air performance space showcasing music\, dance\, comedy\, theater\, children's programs\, and free events.
UID:e.2126.26116
SEQUENCE:3
DTSTAMP:20260420T230659Z
URL:http://business.thequietresorts.com/events/details/dean-ford-the-beautiful-ones-a-tribute-2-prince-26116
END:VEVENT

END:VCALENDAR
