BEGIN:VCALENDAR
VERSION:2.0
PRODID:-//ChamberMaster//Event Calendar 2.0//EN
METHOD:PUBLISH
X-PUBLISHED-TTL:P3D
REFRESH-INTERVAL:P3D
CALSCALE:GREGORIAN
BEGIN:VEVENT
DTSTART:20200808T000000Z
DTEND:20200808T020000Z
X-MICROSOFT-CDO-ALLDAYEVENT:FALSE
SUMMARY:Dead Letter Office: A Tribute to R.E.M.
DESCRIPTION:Dead Letter Office have dedicated themselves to faithfully reproducing the music and energy of a live R.E.M. show. Since 2014\, Dead Letter Office has been thrilling audiences throughout the U.S. & Canada\, providing a show that's been sorely missed since R.E.M called it quits. Dead Letter Office not only performs R.E.M.'s major hits but also dives deep into their catalog to please the die-hard fans! Dead Letter Office is the only R.E.M. tribute band to be joined on stage by members of R.E.M. Mike Mills joined them on stage in Buffalo\, NY for Man on the Moon. PeterBuck joined them onstage at Clusterfest in San Francisco (in front of 8\,000 people)for Sitting Still and So. Central Rain!
X-ALT-DESC;FMTTYPE=text/html:<span style="font-size: 14px\;"><span style="font-family: arial\;">Dead Letter Office have dedicated themselves to faithfully reproducing the music and energy of a live R.E.M. show. Since 2014\, Dead Letter Office has been thrilling audiences throughout the U.S. &amp\; Canada\, providing a show that&#39\;s been sorely missed since R.E.M called it quits. Dead Letter Office not only performs R.E.M.&#39\;s major hits but also dives deep into their catalog to please the die-hard fans! Dead Letter Office is the only R.E.M. tribute band to be joined on stage by members of R.E.M. Mike Mills joined them on stage in Buffalo\, NY for Man on the Moon. PeterBuck joined them onstage at Clusterfest in San Francisco (in front of 8\,000 people)for Sitting Still and So. Central Rain!</span></span>
LOCATION:The Freeman Stage 31750 Lake View Drive Selbyville\, DE 19975
UID:e.2126.21711
SEQUENCE:3
DTSTAMP:20260425T144955Z
URL:http://business.thequietresorts.com/events/details/dead-letter-office-a-tribute-to-r-e-m-21711
END:VEVENT

END:VCALENDAR
