BEGIN:VCALENDAR
VERSION:2.0
PRODID:-//ChamberMaster//Event Calendar 2.0//EN
METHOD:PUBLISH
X-PUBLISHED-TTL:P3D
REFRESH-INTERVAL:P3D
CALSCALE:GREGORIAN
BEGIN:VEVENT
DTSTART:20220720T233000Z
DTEND:20220721T010000Z
X-MICROSOFT-CDO-ALLDAYEVENT:FALSE
SUMMARY:De Tierra Calente
DESCRIPTION:De Tierra Caliente delivers a show that will heat you up withintoxicating songs in Spanish\, English and Portuguese sing out the bright colors and familial warmth of a South American kitchen. detierracaliente.com
X-ALT-DESC;FMTTYPE=text/html:<span dir="ltr" style="font-family:sans-serif\; font-size:13.4px">De Tierra Caliente</span><span dir="ltr" style="font-family:sans-serif\; font-size:13.4px"> delivers</span><span dir="ltr" style="font-family:sans-serif\; font-size:13.4px"> </span><span dir="ltr" style="font-family:sans-serif\; font-size:13.4px">a show</span><span dir="ltr" style="font-family:sans-serif\; font-size:13.4px"> </span><span dir="ltr" style="font-family:sans-serif\; font-size:13.4px">that</span><span dir="ltr" style="font-family:sans-serif\; font-size:13.4px"> will heat you up with</span><span dir="ltr" style="font-family:sans-serif\; font-size:13.4px">intoxicating songs in Spanish\, English</span><span dir="ltr" style="font-family:sans-serif\; font-size:13.4px"> and Portuguese sing out the bright colors</span><span dir="ltr" style="font-family:sans-serif\; font-size:13.4px"> and familial warmth of a South American</span><span dir="ltr" style="font-family:sans-serif\; font-size:13.4px"> kitchen.</span><span dir="ltr" style="font-family:sans-serif\; font-size:13.4px"> </span><span dir="ltr" style="font-family:sans-serif\; font-size:13.4px">detierracaliente.com</span>
LOCATION:Bethany Beach Bandstand Garfield Parkway & Boardwalk\, Bethany Beach
UID:e.2126.23767
SEQUENCE:3
DTSTAMP:20260421T204752Z
URL:http://business.thequietresorts.com/events/details/de-tierra-calente-23767
END:VEVENT

END:VCALENDAR
