BEGIN:VCALENDAR
VERSION:2.0
PRODID:-//ChamberMaster//Event Calendar 2.0//EN
METHOD:PUBLISH
X-PUBLISHED-TTL:P3D
REFRESH-INTERVAL:P3D
CALSCALE:GREGORIAN
BEGIN:VEVENT
DTSTART:20210821T120000Z
DTEND:20210821T161500Z
X-MICROSOFT-CDO-ALLDAYEVENT:FALSE
SUMMARY:DE Becoming an Outdoors Woman
DESCRIPTION:Becoming an Outdoors-Woman is an educational program offering hands-on workshops to encourage and enhance participation in outdoor activities like hunting and shooting sports\, fishing and boating\, and non-harvest activites. Each participant will be able to take part in two instructional outdoor courses\, each an hour and a half long. Snacks and bottled water will be provided. Participants should bring their own lunch and enjoy a picnic in the park after the morning's courses.\n\n\n\nRegistration\n\nAll participants must pre-register by Monday\, August 16. No walk-ups will be permitted. To register\, please call the DuPont Nature Center at 302-422-1329. The program cost is $20 per person (payments accepted as cash or check upon arrival).\n\n\n\nFor more information\, please click here.
X-ALT-DESC;FMTTYPE=text/html:<span style="font-size:14px\;"><span style="font-family:arial\;">Becoming an Outdoors-Woman is an educational program offering hands-on workshops to encourage and enhance participation in outdoor activities like hunting and shooting sports\, fishing and boating\, and non-harvest activites. Each participant will be able to take part in two instructional outdoor courses\, each an hour and a half long. Snacks and bottled water will be provided. Participants should bring their own lunch and enjoy a picnic in the park after the morning&#39\;s courses.<br />\n<br />\nRegistration<br />\nAll participants must pre-register by Monday\, August 16. No walk-ups will be permitted. To register\, please call the DuPont Nature Center at 302-422-1329. The program cost is $20 per person (payments accepted as cash or check upon arrival).<br />\n<br />\nFor more information\, please <strong><a href="https://dnrec.alpha.delaware.gov/fish-wildlife/hunter-education/becoming-an-outdoors-woman/" target="_blank">click here</a></strong>.</span></span>
LOCATION:Trap Pond State Park 33587 Baldcypress Ln Laurel\, DE 19956
UID:e.2126.22663
SEQUENCE:3
DTSTAMP:20260424T153238Z
URL:http://business.thequietresorts.com/events/details/de-becoming-an-outdoors-woman-22663
END:VEVENT

END:VCALENDAR
