BEGIN:VCALENDAR
VERSION:2.0
PRODID:-//ChamberMaster//Event Calendar 2.0//EN
METHOD:PUBLISH
X-PUBLISHED-TTL:P3D
REFRESH-INTERVAL:P3D
CALSCALE:GREGORIAN
BEGIN:VEVENT
DTSTART:20221013T130000Z
DTEND:20221030T200000Z
X-MICROSOFT-CDO-ALLDAYEVENT:FALSE
SUMMARY:DBG Fall Harvest - Sea Witch Festival Activities
DESCRIPTION:Discover the DBG 9-foot Garden Sea Witch\, see the scare crows\, and walk the Fall Discover Trial with animal sculptures - all made from natural materials. The gardens are decorated for the Harvest Season.
X-ALT-DESC;FMTTYPE=text/html:Discover the DBG 9-foot Garden Sea Witch\, see the scare crows\, and walk the Fall Discover Trial with animal sculptures - all made from natural materials. The gardens are decorated for the Harvest Season.
LOCATION:Delaware Botanic Gardens\, 30220 Piney Neck Road\, Dagsboro\, DE 19939
UID:e.2126.24196
SEQUENCE:3
DTSTAMP:20260421T160738Z
URL:http://business.thequietresorts.com/events/details/dbg-fall-harvest-sea-witch-festival-activities-24196
END:VEVENT

END:VCALENDAR
