BEGIN:VCALENDAR
VERSION:2.0
PRODID:-//ChamberMaster//Event Calendar 2.0//EN
METHOD:PUBLISH
X-PUBLISHED-TTL:P3D
REFRESH-INTERVAL:P3D
CALSCALE:GREGORIAN
BEGIN:VEVENT
DTSTART;VALUE=DATE:20230304
DTEND;VALUE=DATE:20230305
TRANSP:TRANSPARENT
X-MICROSOFT-CDO-ALLDAYEVENT:TRUE
SUMMARY:DBCC's Lights of Life Going Back to the 80s Gala
DESCRIPTION:Get ready to party "All Night Long" because this gala is going to be epic! \n\n\n\nTicket includes entertainment\, survivor showcase\, hors d'oeuvres\, food stations\, and open bar.\n\n\n\nFeaturing DJ Sky Brady\n\nYour business can be a sponsor! Check out our website to learn more.\n\n\n\nWant to donate an auction item? Visit our website for more info.
X-ALT-DESC;FMTTYPE=text/html:<div>\n<p>Get ready to party &quot\;All Night Long&quot\; because this gala is going to be epic!&nbsp\;<br />\n<br />\nTicket includes entertainment\, survivor showcase\, hors d&#39\;oeuvres\, food stations\, and open bar.<br />\n<br />\nFeaturing DJ Sky Brady</p>\n</div>\nYour business can be a sponsor! Check out our website to learn more.<br />\n<br />\nWant to donate an auction item? Visit our website for more info.&nbsp\;<br />\n<br />\n&nbsp\;
LOCATION:Bally's Dover Casino Resort
UID:e.2126.24872
SEQUENCE:3
DTSTAMP:20260421T055951Z
URL:http://business.thequietresorts.com/events/details/dbcc-s-lights-of-life-going-back-to-the-80s-gala-24872
END:VEVENT

END:VCALENDAR
