BEGIN:VCALENDAR
VERSION:2.0
PRODID:-//ChamberMaster//Event Calendar 2.0//EN
METHOD:PUBLISH
X-PUBLISHED-TTL:P3D
REFRESH-INTERVAL:P3D
CALSCALE:GREGORIAN
BEGIN:VEVENT
DTSTART:20240302T220000Z
DTEND:20240303T023000Z
X-MICROSOFT-CDO-ALLDAYEVENT:FALSE
SUMMARY:DBCC's Lights of Life Bond for Breast Cancer Gala
DESCRIPTION:You're invited to the Delaware Breast Cancer Coalition's 2024 Lights of Life "Bond for Breast Cancer" Gala. This event will be held on Saturday\, March 2\, 2024\, at the Bally's Dover Casino Resort. Get ready to go undercover all the while partying with local\, well-known band\, Kristen and the Noise!\n\n \n\n\nArrive in style and enjoy dancing\, silent and live auctions including exclusive trip and entertainment packages\, hors d'oeuvres\, an exquisite dinner that will make you say "You Only Live Twice"\, and an open bar complete with martinis   shaken\, not stirred. Best of all\, our signature Survivor Showcase will feature local breast cancer survivors\, escorted by local medical professionals and business leaders from our community.\n\n \n\nYou may also honor the life of a breast cancer survivor through the purchase of a tribute of celebration or memorial to their legacy. These special tributes will be displayed at our event and you can share your tribute with a personalized note.\n\n \n\nFunds raised through the Lights of Life Gala will help DBCC meet the needs of those with breast cancer in Delaware. Your generous support will allow the Delaware Breast Cancer Coalition to continue to deliver community programs of survivorship\, support\, outreach education\, transportation\, and translation services to our friends\, family\, and neighbors battling breast cancer.\n\n \n\nAttire: Secret Agent - Cocktail\n\nNeither firearms nor firearm paraphernalia will be permitted into Bally's facility.
X-ALT-DESC;FMTTYPE=text/html:<div>You&#39\;re invited to the Delaware Breast Cancer Coalition&rsquo\;s 2024 Lights of Life &ldquo\;Bond for Breast Cancer&rdquo\; Gala. This event will be held on Saturday\, March 2\, 2024\, at the Bally&rsquo\;s Dover Casino Resort. Get ready to go undercover all the while partying with local\, well-known band\, Kristen and the Noise!<br />\n&nbsp\;</div>\n\n<div>\n<div>Arrive in style and enjoy dancing\, silent and live auctions including exclusive trip and entertainment packages\, hors d&rsquo\;oeuvres\, an exquisite dinner that will make you say &ldquo\;You Only Live Twice&rdquo\;\, and an open bar complete with martinis &ndash\; shaken\, not stirred. Best of all\, our signature Survivor Showcase will feature local breast cancer survivors\, escorted by local medical professionals and business leaders from our community.</div>\n\n<div>&nbsp\;</div>\n\n<div>You may also honor the life of a breast cancer survivor through the purchase of a tribute of celebration or memorial to their legacy. These special tributes will be displayed at our event and you can share your tribute with a personalized note.</div>\n\n<div>&nbsp\;</div>\n\n<div>Funds raised through the Lights of Life Gala will help DBCC meet the needs of those with breast cancer in Delaware. Your generous support will allow the Delaware Breast Cancer Coalition to continue to deliver community programs of survivorship\, support\, outreach education\, transportation\, and translation services to our friends\, family\, and neighbors battling breast cancer.</div>\n\n<div>&nbsp\;</div>\n\n<div>Attire: Secret Agent - Cocktail</div>\n\n<div>Neither firearms nor firearm paraphernalia will be permitted into Bally&#39\;s facility.&nbsp\;</div>\n</div>\n
LOCATION:Bally's Dover Casino Resort 1131 North Dupont Highway Dover\, DE 19901
UID:e.2126.28439
SEQUENCE:3
DTSTAMP:20260420T075028Z
URL:http://business.thequietresorts.com/events/details/dbcc-s-lights-of-life-bond-for-breast-cancer-gala-28439
END:VEVENT

END:VCALENDAR
