BEGIN:VCALENDAR
VERSION:2.0
PRODID:-//ChamberMaster//Event Calendar 2.0//EN
METHOD:PUBLISH
X-PUBLISHED-TTL:P3D
REFRESH-INTERVAL:P3D
CALSCALE:GREGORIAN
BEGIN:VEVENT
DTSTART:20210619T140000Z
DTEND:20210619T160000Z
X-MICROSOFT-CDO-ALLDAYEVENT:FALSE
SUMMARY:David Darwin — One Man Sideshow
DESCRIPTION:You may have seen Dave on NBC's "America's Got Talent" or "The Late Late Show with James Corden." Dave presents a One Man Sideshow of juggling\, comedy and vaudeville. Dave presents a fun juggling show for family audiences that entertains the children with his skills and keeps the adults laughing with his irreverent humor. Dave's list of skills includes juggling\, unicycling\, plate spinning\, lasso\, bullwhip and more.
X-ALT-DESC;FMTTYPE=text/html:You may have seen Dave on NBC&#39\;s &quot\;America&#39\;s Got Talent&quot\; or &quot\;The Late Late Show with James Corden.&quot\; Dave presents a One Man Sideshow of juggling\, comedy and vaudeville. Dave presents a fun juggling show for family audiences that entertains the children with his skills and keeps the adults laughing with his irreverent humor.&nbsp\;Dave&#39\;s list of skills includes juggling\, unicycling\, plate spinning\, lasso\, bullwhip and more.
LOCATION:Freeman Arts Pavilion 31806 Lakeview Drive Selbyville\, DE 19975
UID:e.2126.22009
SEQUENCE:3
DTSTAMP:20260424T190110Z
URL:http://business.thequietresorts.com/events/details/david-darwin-one-man-sideshow-22009
END:VEVENT

END:VCALENDAR
