BEGIN:VCALENDAR
VERSION:2.0
PRODID:-//ChamberMaster//Event Calendar 2.0//EN
METHOD:PUBLISH
X-PUBLISHED-TTL:P3D
REFRESH-INTERVAL:P3D
CALSCALE:GREGORIAN
BEGIN:VEVENT
DTSTART:20240625T223000Z
DTEND:20240625T233000Z
X-MICROSOFT-CDO-ALLDAYEVENT:FALSE
SUMMARY:Dave Cox at Dickens Parlour Theatre
DESCRIPTION:Dave Cox is hilarious. More than that\, he'll fool the pants off of you. And then he'll very politely give them back\, unlike some of those weaselly trouser stealing magicians I'm sure you've heard so much about. Dave's quick wit\, spellbinding magic\, and side-splitting comedy gets the entire audience involved in a smart\, high energy\, faced paced show\, filled with magic\, hilarity. They will laugh\, gasp\, and rub their eyes in that comical way cartoon characters do. Dave has performed around the Globe and a regular at the Magic Castle in Hollywood. CA.
X-ALT-DESC;FMTTYPE=text/html:<span style="color:rgb(0\, 0\, 0)\; font-family:tahoma\,geneva\,sans-serif\; font-size:14px">Dave Cox is hilarious.&nbsp\;More than that\, he&rsquo\;ll fool the pants off of you.&nbsp\;And then he&rsquo\;ll very politely give them back\, unlike some of those weaselly trouser stealing magicians I&rsquo\;m sure you&rsquo\;ve heard so much about. Dave&rsquo\;s quick wit\, spellbinding magic\, and side-splitting comedy gets the entire audience involved in a smart\, high energy\, faced paced show\, filled with magic\, hilarity. They will laugh\, gasp\, and rub their eyes in that comical way cartoon characters do. Dave has performed around the Globe and a regular at the Magic Castle in Hollywood. CA.</span>
LOCATION:Dickens Parlour Theatre 31810 Good Earth Lane Ocean View\, DE 19970
UID:e.2126.30150
SEQUENCE:3
DTSTAMP:20260420T103408Z
URL:http://business.thequietresorts.com/events/details/dave-cox-06-25-2024-30150
END:VEVENT

END:VCALENDAR
