BEGIN:VCALENDAR
VERSION:2.0
PRODID:-//ChamberMaster//Event Calendar 2.0//EN
METHOD:PUBLISH
X-PUBLISHED-TTL:P3D
REFRESH-INTERVAL:P3D
CALSCALE:GREGORIAN
BEGIN:VEVENT
DTSTART:20240607T210000Z
DTEND:20240608T190000Z
X-MICROSOFT-CDO-ALLDAYEVENT:FALSE
SUMMARY:Dance On The Shore Festival at Art League of OC
DESCRIPTION:Join us for the 2nd annual Dance on the Shore Festival\, presented by Saltare in Elementis Dance Collective (SIEDC). All activities are FREE and open to the public.\n\n\n\nFriday June 7\n\n\n	5-7pm: Live Dance Performance at the First Friday Reception   see the dancers of Saltare in Elementis Dance Collective perform their piece Intertidal\, about bodies of water\, and learn the 4 hand movements of the official 'Global Water Dances' to kick off the festival. Meet the dancers and learn more.\n\n\nSaturday June 8\n\n\n	11-1pm: Saturday Kids Craft   for families and kids of all ages   make a fun craft led by the Art League of Ocean City\, then create movement along with the SIEDC dancers inspired by your creation.\n	1:15-2:15pm: "Mat to Movement" Workshop   a water-themed dance workshop incorporating yoga and light movement for adults (outside\, if weather permits). Bring your own yoga mat! Click here for advance registration\; walk-in's welcome.\n	2:30-3pm: Community Improv Dance Party   all are welcome!\n	11-3pm (ongoing): Film Screening of "Roots: Maryland's Nature to Nurture" (27 mins) Audiences explore through dance Maryland's coast\, mountains\, suburbs\, and cities and the community value systems and personal perspectives throughout the state.
X-ALT-DESC;FMTTYPE=text/html:<div>Join us for the 2nd annual Dance on the Shore Festival\, presented by Saltare in Elementis Dance Collective (SIEDC). All activities are&nbsp\;<strong>FREE</strong>&nbsp\;and open to the public.</div>\n\n<div><br />\nFriday June 7</div>\n\n<ul>\n	<li><strong>5-7pm: Live Dance Performance at the First Friday Reception&nbsp\;</strong>&ndash\; see the dancers of Saltare in Elementis Dance Collective perform their piece&nbsp\;<em>Intertidal</em>\, about bodies of water\, and learn the 4 hand movements of the official &lsquo\;<em>Global Water Dances</em>&lsquo\; to kick off the festival. Meet the dancers and learn more.</li>\n</ul>\n\n<div>Saturday June 8</div>\n\n<ul>\n	<li><strong>11-1pm: Saturday Kids Craft&nbsp\;</strong>&ndash\; for families and kids of all ages &ndash\; make a fun craft led by the Art League of Ocean City\, then create movement along with the SIEDC dancers inspired by your creation.</li>\n	<li><strong>1:15-2:15pm:</strong>&nbsp\;<strong>&ldquo\;Mat to Movement&rdquo\; Workshop</strong>&nbsp\;&ndash\; a water-themed dance workshop incorporating yoga and light movement for adults (outside\, if weather permits). Bring your own yoga mat!&nbsp\;<span style="color:rgb(0\, 0\, 255)"><a href="https://canvas.artleagueofoceancity.org/classes/1634" style="box-sizing: border-box\; outline: none 0px\; color: rgb(0\, 0\, 255)\; text-decoration-line: none\; transition: all 0.2s ease 0s\; background: transparent\; -webkit-tap-highlight-color: rgba(0\, 0\, 0\, 0.3)\;">Click here</a></span>&nbsp\;for advance registration\; walk-in&rsquo\;s welcome.</li>\n	<li><strong>2:30-3pm: Community Improv Dance Party&nbsp\;</strong>&ndash\; all are welcome!</li>\n	<li><strong>11-3pm&nbsp\;</strong>(<em>ongoing</em>)<strong>: Film Screening of &ldquo\;Roots: Maryland&rsquo\;s Nature to Nurture&rdquo\;</strong>&nbsp\;(27 mins) Audiences explore through dance Maryland&rsquo\;s coast\, mountains\, suburbs\, and cities and the community value systems and personal perspectives throughout the state.</li>\n</ul>\n
LOCATION:The Art League of Ocean City 502 94th St. Ocean City\, MD 21842.
UID:e.2126.30086
SEQUENCE:3
DTSTAMP:20260420T092936Z
URL:http://business.thequietresorts.com/events/details/dance-on-the-shore-festival-at-art-league-of-oc-30086
END:VEVENT

END:VCALENDAR
