BEGIN:VCALENDAR
VERSION:2.0
PRODID:-//ChamberMaster//Event Calendar 2.0//EN
METHOD:PUBLISH
X-PUBLISHED-TTL:P3D
REFRESH-INTERVAL:P3D
CALSCALE:GREGORIAN
BEGIN:VEVENT
DTSTART;VALUE=DATE:20200120
DTEND;VALUE=DATE:20200121
TRANSP:TRANSPARENT
X-MICROSOFT-CDO-ALLDAYEVENT:TRUE
SUMMARY:CustomFit360 New Year New Us
DESCRIPTION:CustomFit360 Community Fitness Challenge\n\nWe want everyone involved in this challenge and as a team we'll reach our goals. This challenge is open to the public so grab your friends and family and change your lives together.\n\n	8 weeks of team building community weight loss effort\n	As a team\, you will have a cumulative weight loss goal of 8lbs per person to be accomplished in 8 weeks starting on January 20\n	Prize will include a team healthy banquet dinner. Multiple prizes to be given including but not limited to...\n	\n		Free small group training\n		Free online training\n		Gift Cards\n		Apparel & more!\n	\n	\n	Weekly weigh-ins at the studio are required. A chart will be kept at the studio representing the team total weight loss each week\n	Enrollment is only $29.99 for the full 8 weeks which includes the online training\n	Join a large community accountability group\, meet new friends\, have fun and get fit!\n\nTo register\, please click here and return the completed form to Erik Schreiber at customfit360de@gmail.com
X-ALT-DESC;FMTTYPE=text/html:<span style="font-size: 16px\;"><span style="font-family: arial\;">CustomFit360 Community Fitness Challenge<br />\n<span style="font-size: 14px\;">We want everyone involved in this challenge and as a team we&#39\;ll reach our goals. This challenge is open to the public so grab your friends and family and change your lives together.</span></span></span>\n<ul>\n	<li><span style="font-size: 16px\;"><span style="font-family: arial\;"><span style="font-size: 14px\;">8 weeks of team building community weight loss effort</span></span></span></li>\n	<li><span style="font-size: 16px\;"><span style="font-family: arial\;"><span style="font-size: 14px\;">As a team\, you will have a cumulative weight loss goal of 8lbs per person to be accomplished in 8 weeks starting on January 20</span></span></span></li>\n	<li><span style="font-size: 16px\;"><span style="font-family: arial\;"><span style="font-size: 14px\;">Prize will include a team healthy banquet dinner. Multiple prizes to be given including but not limited to...</span></span></span>\n	<ul>\n		<li><span style="font-size: 16px\;"><span style="font-family: arial\;"><span style="font-size: 14px\;">Free small group training</span></span></span></li>\n		<li><span style="font-size: 16px\;"><span style="font-family: arial\;"><span style="font-size: 14px\;">Free online training</span></span></span></li>\n		<li><span style="font-size: 16px\;"><span style="font-family: arial\;"><span style="font-size: 14px\;">Gift Cards</span></span></span></li>\n		<li><span style="font-size: 16px\;"><span style="font-family: arial\;"><span style="font-size: 14px\;">Apparel &amp\; more!</span></span></span></li>\n	</ul>\n	</li>\n	<li><span style="font-size: 16px\;"><span style="font-family: arial\;"><span style="font-size: 14px\;">Weekly weigh-ins at the studio are required. A chart will be kept at the studio representing the team total weight loss each week</span></span></span></li>\n	<li><span style="font-size: 16px\;"><span style="font-family: arial\;"><span style="font-size: 14px\;">Enrollment is only $29.99 for the full 8 weeks which includes the online training</span></span></span></li>\n	<li><span style="font-size: 16px\;"><span style="font-family: arial\;"><span style="font-size: 14px\;">Join a large community accountability group\, meet new friends\, have fun and get fit!</span></span></span></li>\n</ul>\n<span style="font-size: 16px\;"><span style="font-family: arial\;"><span style="font-size: 14px\;">To register\, please <strong><a href="https://chambermaster.blob.core.windows.net/userfiles/UserFiles/chambers/2126/File/Community_Events/CustomFit360_New_Year_New_Us/CommunityChallengeRegistrationForm.pdf" target="_blank">click here</a></strong> and return the completed form to Erik Schreiber at <strong><a href="mailto:customfit360de@gmail.com">customfit360de@gmail.com</a></strong></span></span></span>
LOCATION:CustomFit360 29K Atlantic Ave Ocean View\, DE 19970
UID:e.2126.19680
SEQUENCE:3
DTSTAMP:20260426T020735Z
URL:http://business.thequietresorts.com/events/details/customfit360-new-year-new-us-19680
END:VEVENT

END:VCALENDAR
