BEGIN:VCALENDAR
VERSION:2.0
PRODID:-//ChamberMaster//Event Calendar 2.0//EN
METHOD:PUBLISH
X-PUBLISHED-TTL:P3D
REFRESH-INTERVAL:P3D
CALSCALE:GREGORIAN
BEGIN:VEVENT
DTSTART:20231007T130000Z
DTEND:20231014T210000Z
X-MICROSOFT-CDO-ALLDAYEVENT:FALSE
SUMMARY:Customer Appreciation Sale at the Pottery Place Home & Garden
DESCRIPTION:Starting this Saturday\, we're excited to announce our Customer Appreciation Sale with 25% off everything (some exclusions apply). The week long event will run until next Saturday\, October 14th.\n\n\n\nAre you looking for unique home and garden accents\, accessories and gifts? Discover coastal inspired planters\, birdbaths\, cement statues\, chimineas\, lamps\, tables\, pillows\, mirrors\, frames\, clocks\, cookbooks\, grilling accessories\, novelties and greeting cards. \n\n\n\nThe store is open every day from 9am-5pm.
X-ALT-DESC;FMTTYPE=text/html:Starting this Saturday\, we&#39\;re excited to announce our Customer Appreciation Sale with 25% off everything (some exclusions apply). The week long event will run until next Saturday\, October 14th.<br />\n<br />\n<span style="font-size:12px\;"><span style="font-family:arial\;">Are you looking for unique home and garden accents\, accessories and gifts? <span style="color: rgb(0\, 0\, 0)\; text-align: center\; white-space-collapse: preserve\;">Discover coastal inspired planters\, birdbaths\, cement statues\, chimineas\, lamps\, tables\, pillows\, mirrors\, frames\, clocks\, cookbooks\, grilling accessories\, novelties and greeting cards.</span>&nbsp\;<br />\n<br />\nThe store is open every day from 9am-5pm.</span></span>
LOCATION:Pottery Place Home & Garden 1500 Coastal Hwy. Fenwick Island\, DE 19944
UID:e.2126.27002
SEQUENCE:3
DTSTAMP:20260420T183502Z
URL:http://business.thequietresorts.com/events/details/customer-appreciation-sale-at-the-pottery-place-home-garden-27002
END:VEVENT

END:VCALENDAR
