BEGIN:VCALENDAR
VERSION:2.0
PRODID:-//ChamberMaster//Event Calendar 2.0//EN
METHOD:PUBLISH
X-PUBLISHED-TTL:P3D
REFRESH-INTERVAL:P3D
CALSCALE:GREGORIAN
BEGIN:VEVENT
DTSTART:20220927T153000Z
DTEND:20220928T020000Z
X-MICROSOFT-CDO-ALLDAYEVENT:FALSE
SUMMARY:Customer Appreciation Party & Pig Roast
DESCRIPTION:Customer Appreciation Party \n\n& Pig Roast\n\n\n\nTuesday\, September 27th \n\nParty All Day\n\n \n\n\n	Pig Roast (starts at 1:00pm)\n	Pulled Pork Platter - $15    (pulled pig\, baked beans\, cole slaw\, corn bread\, corn on the cob)\n	Pulled Pork Sliders (3) - $10     (cole slaw\, baked beans)??\n\n\n?(While Supplies Last)\n\n \n\n\n	Happy Hour Drink Specials ALL DAY\n	DJ Pat 5-8pm\n\n\n \n\n(Happy Hour Food Specials available during Happy Hour Only)
X-ALT-DESC;FMTTYPE=text/html:<div style="text-align:center"><strong><span style="font-size:16px"><span style="font-family:comic sans ms"><span style="font-size:18px"><span style="color:#FF0000">Customer Appreciation Party&nbsp\;<br />\n&amp\; Pig Roast</span><br />\n<br />\n<span style="font-size:14px"><span style="font-family:tahoma">Tuesday\, September 27th&nbsp\;<br />\nParty All Day</span></span></span></span></span></strong><br />\n&nbsp\;</div>\n\n<ul>\n	<li><span style="color:#FF0000"><span style="font-size:14px"><span style="font-family:tahoma"><strong>Pig Roast</strong> </span></span><span style="font-size:10px">(starts at 1:00pm)</span></span></li>\n	<li><strong><span style="font-size:16px"><span style="font-family:comic sans ms"><span style="font-size:18px"><span style="font-size:14px"><span style="font-family:tahoma"><span style="color:#FF0000"><span style="font-size:10px"><span style="font-size:14px">Pulled Pork Platter - $15&nbsp\; &nbsp\;&nbsp\;</span></span></span></span></span></span></span></span></strong><span style="font-size:16px"><span style="font-family:comic sans ms"><span style="font-size:18px"><span style="font-size:14px"><span style="font-family:tahoma"><span style="color:#FF0000"><span style="font-size:10px"><span style="font-size:14px"><span style="font-size:16px"><span style="font-family:comic sans ms"><span style="font-size:18px"><span style="font-size:14px"><span style="font-family:tahoma"><span style="color:#FF0000"><span style="font-size:10px"><span style="font-size:14px"><span style="font-size:16px"><span style="font-family:comic sans ms"><span style="font-size:18px"><span style="font-size:14px"><span style="font-family:tahoma"><span style="color:#FF0000"><span style="font-size:10px"><span style="font-size:14px"><span style="font-size:10px">(pulled pig\, baked beans\, cole slaw\, corn bread\, corn on the cob)</span></span></span></span></span></span></span></span></span></span></span></span></span></span></span></span></span></span></span></span></span></span></span></span></span></li>\n	<li><strong><span style="font-family:comic sans ms"><span style="font-family:tahoma"><span style="color:rgb(255\, 0\, 0)"><strong><span style="font-family:comic sans ms"><span style="font-family:tahoma"><span style="color:rgb(255\, 0\, 0)"><strong><span style="font-family:comic sans ms"><span style="font-family:tahoma"><span style="color:rgb(255\, 0\, 0)">Pulled Pork Sliders (3) - $10&nbsp\; &nbsp\; &nbsp\;</span></span></span></strong></span></span></span></strong></span></span></span></strong><span style="font-family:comic sans ms"><span style="font-family:tahoma"><span style="color:rgb(255\, 0\, 0)"><span style="font-family:comic sans ms"><span style="font-family:tahoma"><span style="color:rgb(255\, 0\, 0)"><span style="font-family:comic sans ms"><span style="font-family:tahoma"><span style="color:rgb(255\, 0\, 0)"><span style="font-size:10px">(cole slaw\, baked beans)?</span></span></span></span></span></span></span></span></span></span>?</li>\n</ul>\n\n<div style="text-align:center"><span style="font-family:comic sans ms"><span style="font-family:tahoma"><span style="color:rgb(255\, 0\, 0)"><span style="font-family:comic sans ms"><span style="font-family:tahoma"><span style="color:rgb(255\, 0\, 0)"><span style="font-family:comic sans ms"><span style="font-family:tahoma"><span style="color:rgb(255\, 0\, 0)"><span style="font-size:10px">?(While Supplies Last)</span></span></span></span></span></span></span></span></span></span><br />\n&nbsp\;</div>\n\n<ul>\n	<li><strong><span style="color:#FF0000"><span style="font-family:tahoma"><span style="font-size:14px">Happy Hour Drink Specials ALL DAY</span></span></span></strong></li>\n	<li><strong><span style="color:#FF0000"><span style="font-family:tahoma"><span style="font-size:14px">DJ Pat 5-8pm</span></span></span></strong></li>\n</ul>\n\n<div>&nbsp\;</div>\n\n<div style="text-align:center">(Happy Hour Food Specials available during Happy Hour Only)</div>\n\n<div><br />\n&nbsp\;</div>\n
LOCATION:The Salted Rim Margarita Bar & Grille 35553 Atlantic Avenue Millville\, DE 19967 302-537-7373 www.saltedrimde.com
UID:e.2126.24188
SEQUENCE:3
DTSTAMP:20260421T173146Z
URL:http://business.thequietresorts.com/events/details/customer-appreciation-party-pig-roast-24188
END:VEVENT

END:VCALENDAR
