BEGIN:VCALENDAR
VERSION:2.0
PRODID:-//ChamberMaster//Event Calendar 2.0//EN
METHOD:PUBLISH
X-PUBLISHED-TTL:P3D
REFRESH-INTERVAL:P3D
CALSCALE:GREGORIAN
BEGIN:VEVENT
DTSTART;VALUE=DATE:20230708
DTEND;VALUE=DATE:20230709
TRANSP:TRANSPARENT
X-MICROSOFT-CDO-ALLDAYEVENT:TRUE
SUMMARY:CUSTOMER APPRECIATION DAY SALE!
DESCRIPTION:Plant Bargains!\n\nWin the raffle for Garden Coaching!\n\nBlue Scoops Ice Cream Truck!\n\nBonsai Demo!\n\nAnd more!
X-ALT-DESC;FMTTYPE=text/html:<h2 style="font-style:italic\;">Plant Bargains!<br />\nWin the raffle for Garden Coaching!<br />\nBlue Scoops Ice Cream Truck!<br />\nBonsai Demo!<br />\nAnd more!</h2>\n
LOCATION:Inland Bays Garden Center 38320 Muddy Neck Rd\, Frankford\, DE\, 19945
UID:e.2126.26141
SEQUENCE:3
DTSTAMP:20260420T230422Z
URL:http://business.thequietresorts.com/events/details/customer-appreciation-day-sale-26141
END:VEVENT

END:VCALENDAR
