BEGIN:VCALENDAR
VERSION:2.0
PRODID:-//ChamberMaster//Event Calendar 2.0//EN
METHOD:PUBLISH
X-PUBLISHED-TTL:P3D
REFRESH-INTERVAL:P3D
CALSCALE:GREGORIAN
BEGIN:VEVENT
DTSTART:20211214T163000Z
DTEND:20211215T030000Z
X-MICROSOFT-CDO-ALLDAYEVENT:FALSE
SUMMARY:Customer Appreciation Christmas Party at The Salted Rim
DESCRIPTION:Customer Appreciation \n\nChristmas Party\n\n\n\nTuesday\, December 14\n\n\n\nHappy Hour Food & Drink Specials\n\nAll Day & Night\n\n\n\nTaylor Knox   6-9pm\n\n\n\nCelebrate the holidays with your friends at The Salted Rim!\n\nDecorate yourself in festive holiday attire...\n\nugly sweaters welcome!\n\n\n\nAlso Ring in the New Year at The Salted Rim\n\nDecember 31\, 2021\n\nGourmet Dinner Menu\n\nvisit our website for details
X-ALT-DESC;FMTTYPE=text/html:<div style="text-align:center"><strong><span style="font-size:16px"><span style="font-family:comic sans ms"><span style="font-size:18px"><span style="color:#FF0000">Customer Appreciation&nbsp\;<br />\nChristmas Party</span><br />\n<br />\n<span style="font-size:14px"><span style="font-family:tahoma"><span style="color:#008000">Tuesday\, December 14</span><br />\n<br />\nHappy Hour Food &amp\; Drink Specials<br />\nAll Day &amp\; Night<br />\n<br />\n<span style="color:#0000CD">Taylor Knox &bull\; 6-9pm</span><br />\n<br />\n<span style="font-size:12px">Celebrate the holidays with your friends at The Salted Rim!<br />\nDecorate yourself in festive holiday attire...<br />\nugly sweaters welcome!<br />\n<br />\n<span style="color:#0000FF"><span style="font-size:14px">Also Ring in the New Year at The Salted Rim<br />\nDecember 31\, 2021</span><br />\nGourmet Dinner Menu</span></span></span></span></span><br />\n<span style="font-size:12px">visit our website for details</span></span></span></strong></div>\n
LOCATION:The Salted Rim Margarita Bar & Grille 35553 Atlantic Avenue Millville\, DE 19967 302-537-7373 www.saltedrimde.com
UID:e.2126.23321
SEQUENCE:3
DTSTAMP:20260424T085613Z
URL:http://business.thequietresorts.com/events/details/customer-appreciation-christmas-party-at-the-salted-rim-23321
END:VEVENT

END:VCALENDAR
