BEGIN:VCALENDAR
VERSION:2.0
PRODID:-//ChamberMaster//Event Calendar 2.0//EN
METHOD:PUBLISH
X-PUBLISHED-TTL:P3D
REFRESH-INTERVAL:P3D
CALSCALE:GREGORIAN
BEGIN:VEVENT
DTSTART:20230930T140000Z
DTEND:20230930T160000Z
X-MICROSOFT-CDO-ALLDAYEVENT:FALSE
SUMMARY:Creating Your Own Medicinal Herbs for Winter Health With Amber Starr
DESCRIPTION:Creating Herbal Vinegars and Oxymels is an easy way to get the most bang for your herbal buck as well as all the amazing healing benefits of honey and vinegar! They are simple to put together\, and have a long shelf life. We will also be delving into the healing benefits of herbal honeys\, infusions and tinctures. Head into the fall and winter cold and flu season prepared!\n\nAmber always had an affinity for learning and creating. She feels the more she learns the more she wants to share everything with the world and her community. She holds an Associates in Landscape Ornamental Horticulture as well as 10 years working in the field. Her passion has expanded outwards into Herbal Medicine.\n\nClick here to get tickets!
X-ALT-DESC;FMTTYPE=text/html:<h5>Creating Herbal Vinegars and Oxymels is an easy way to get the most bang for your herbal buck as well as all the amazing healing benefits of honey and vinegar! They are simple to put together\, and have a long shelf life. We will also be delving into the healing benefits of herbal honeys\, infusions and tinctures. Head into the fall and winter cold and flu season prepared!</h5>\n\n<h5>Amber always had an affinity for learning and creating. She feels the more she learns the more she wants to share everything with the world and her community. She holds an Associates in Landscape Ornamental Horticulture as well as 10 years working in the field. Her passion has expanded outwards into Herbal Medicine.</h5>\n\n<h5><a href="https://www.eventbrite.com/e/690207588477?aff=oddtdtcreator" rel="noopener" style="box-sizing: border-box\; background-color: transparent\; border-bottom: 1px solid currentcolor\; text-decoration-line: none\; color: rgb(28\, 30\, 31) !important\;" target="_blank"><strong>Click here to get ticket</strong><strong>s!</strong></a></h5>\n
LOCATION:Inland Bays Garden Center 38320 Muddy Neck Rd\, Frankford\, DE\, 19945
UID:e.2126.26513
SEQUENCE:3
DTSTAMP:20260420T200039Z
URL:http://business.thequietresorts.com/events/details/creating-your-own-medicinal-herbs-for-winter-health-with-amber-starr-26513
END:VEVENT

END:VCALENDAR
