BEGIN:VCALENDAR
VERSION:2.0
PRODID:-//ChamberMaster//Event Calendar 2.0//EN
METHOD:PUBLISH
X-PUBLISHED-TTL:P3D
REFRESH-INTERVAL:P3D
CALSCALE:GREGORIAN
BEGIN:VEVENT
DTSTART:20230812T140000Z
DTEND:20230812T150000Z
X-MICROSOFT-CDO-ALLDAYEVENT:FALSE
SUMMARY:Creating Whimsical Masterpieces with John Donato
DESCRIPTION:ADMISSION: FREE\n\nRenowned local artist John Donato will delight children in this guided art class. Your child will enjoy hands-on learning from the artist himself as they create their own whimsical masterpiece. Using John's simple-to-master creative techniques\, your children will build their own high-spirited work of art! All the color and whimsy at their fingertips in this step-by-step art experience. John collaborates with communities\, schools\, and businesses\; anywhere required for others to access unique creative experiences. John is an accomplished fine artist and mural painter whose work is displayed and collected all over the world."
X-ALT-DESC;FMTTYPE=text/html:<h6>ADMISSION: FREE</h6>\n\n<p>Renowned local artist John Donato will delight children in this guided art class. Your child will enjoy hands-on learning from the artist himself as they create their own whimsical masterpiece.&nbsp\;Using John&rsquo\;s simple-to-master creative techniques\, your children will build their own high-spirited work of art!&nbsp\;All the color and whimsy at their fingertips in this step-by-step art experience.&nbsp\;John collaborates with communities\, schools\, and businesses\; anywhere required for others to access unique creative experiences. John is an accomplished fine artist and mural painter whose work is displayed and collected all over the world.&quot\;</p>\n
LOCATION:Freeman Arts Pavilion a program of the Joshua M. Freeman Foundation is a champion of the arts on Delmarva\, providing diverse arts performances as well as arts access programs for local schools and the community at large. From June-September the Freeman Arts Pavilion is an open-air performance space showcasing music\, dance\, comedy\, theater\, children's programs\, and free events.
UID:e.2126.26120
SEQUENCE:3
DTSTAMP:20260420T212458Z
URL:http://business.thequietresorts.com/events/details/creating-whimsical-masterpieces-with-john-donato-08-12-2023-26120
END:VEVENT

END:VCALENDAR
