BEGIN:VCALENDAR
VERSION:2.0
PRODID:-//ChamberMaster//Event Calendar 2.0//EN
METHOD:PUBLISH
X-PUBLISHED-TTL:P3D
REFRESH-INTERVAL:P3D
CALSCALE:GREGORIAN
BEGIN:VEVENT
DTSTART:20200808T140000Z
DTEND:20200808T150000Z
X-MICROSOFT-CDO-ALLDAYEVENT:FALSE
SUMMARY:Creating Whimsical Masterpieces with John Donato
DESCRIPTION:Renowned local artist John Donato will delight children during his energetic and educational interactive experience. His art is like walking into a smile factory. Your child will enjoy hands-on learning from John to create a masterpiece. John collaborates with communities\, schools\, and businesses\; anywhere required for others to access this unique creative experience. He is also an accomplished fine artist with works of art collected and enjoyed throughout the world.
X-ALT-DESC;FMTTYPE=text/html:<span style="font-size: 14px\;"><span style="font-family: arial\;">Renowned local artist John Donato will delight children during his energetic and educational interactive experience. His art is like walking into a smile factory. Your child will enjoy hands-on learning from John to create a masterpiece. John collaborates with communities\, schools\, and businesses\; anywhere required for others to access this unique creative experience. He is also an accomplished fine artist with works of art collected and enjoyed throughout the world.</span></span>
LOCATION:The Freeman Stage 31750 Lake View Drive Selbyville\, DE 19975
UID:e.2126.21712
SEQUENCE:3
DTSTAMP:20260425T144944Z
URL:http://business.thequietresorts.com/events/details/creating-whimsical-masterpieces-with-john-donato-08-08-2020-21712
END:VEVENT

END:VCALENDAR
