BEGIN:VCALENDAR
VERSION:2.0
PRODID:-//ChamberMaster//Event Calendar 2.0//EN
METHOD:PUBLISH
X-PUBLISHED-TTL:P3D
REFRESH-INTERVAL:P3D
CALSCALE:GREGORIAN
BEGIN:VEVENT
DTSTART:20220514T160000Z
DTEND:20220514T183000Z
X-MICROSOFT-CDO-ALLDAYEVENT:FALSE
SUMMARY:Crawfish Boil
DESCRIPTION:Crawfish Boil\n\nRoxana Volunteer Fire Company & Indian River Ducks Unlimited\n\n\n\nDoors Open at Noon\n\nCrawfish Served 12 - 2:30 pm\n\n\n\nLimited Entry Tickets Available \n\nTickets: IRDucks.org
X-ALT-DESC;FMTTYPE=text/html:Crawfish Boil<br />\nRoxana Volunteer Fire Company &amp\; Indian River Ducks Unlimited<br />\n<br />\nDoors Open at Noon<br />\nCrawfish Served 12 - 2:30 pm<br />\n<br />\nLimited Entry Tickets Available&nbsp\;<br />\nTickets: <a href="http://irducks.org">IRDucks.org</a>
LOCATION:35943 Zion Church Rd. Frankford\, DE
UID:e.2126.23632
SEQUENCE:3
DTSTAMP:20260422T000750Z
URL:http://business.thequietresorts.com/events/details/crawfish-boil-23632
END:VEVENT

END:VCALENDAR
