BEGIN:VCALENDAR
VERSION:2.0
PRODID:-//ChamberMaster//Event Calendar 2.0//EN
METHOD:PUBLISH
X-PUBLISHED-TTL:P3D
REFRESH-INTERVAL:P3D
CALSCALE:GREGORIAN
BEGIN:VEVENT
DTSTART:20211013T190000Z
DTEND:20211015T230000Z
X-MICROSOFT-CDO-ALLDAYEVENT:FALSE
SUMMARY:CraftBOX STEAM Shop - Moving Sale
DESCRIPTION:At least 50% off EVERYTHING in the store as we liquidate for our big move in 2022. CraftBOX has outgrown it's space at 300 Coastal Highway/Village of Fenwick and would rather sell than move its STEM and Art Boxes\, puzzles\, crafts and books.\n\n\n\nCome visit us during this limited 3 day event.\n\n\n\nAfter that\, follow us to learn more about where and when we will be back in 2022.\n\nwww.craftBOXin.com
X-ALT-DESC;FMTTYPE=text/html:<span style="font-size:14px\;"><span style="font-family:arial\;">At least 50% off EVERYTHING in the store as we liquidate for our big move in 2022. CraftBOX has outgrown it&#39\;s space at 300 Coastal Highway/Village of Fenwick and would rather sell than move its STEM and Art Boxes\, puzzles\, crafts and books.<br />\n<br />\nCome visit us during this limited 3 day event.<br />\n<br />\nAfter that\, follow us to learn more about where and when we will be back in 2022.<br />\nwww.craftBOXin.com</span></span>
LOCATION:300 Coastal Highway Suite 4 Village of Fenwick Fenwick Island\, DE 19944
UID:e.2126.22974
SEQUENCE:3
DTSTAMP:20260424T134135Z
URL:http://business.thequietresorts.com/events/details/craftbox-steam-shop-moving-sale-22974
END:VEVENT

END:VCALENDAR
