BEGIN:VCALENDAR
VERSION:2.0
PRODID:-//ChamberMaster//Event Calendar 2.0//EN
METHOD:PUBLISH
X-PUBLISHED-TTL:P3D
REFRESH-INTERVAL:P3D
CALSCALE:GREGORIAN
BEGIN:VEVENT
DTSTART:20220420T123000Z
DTEND:20220420T142500Z
X-MICROSOFT-CDO-ALLDAYEVENT:FALSE
SUMMARY:CPR Certification Course Sponsored by the Chamber 2022
DESCRIPTION:Get your Red Cross CPR Certification with the Chamber team and Officer Catherine Hazell\, a Nationally registered EMT with the Ocean View Police Department.  Earn your 2-year certification... and have fun doing it.  Each person or organization is responsible for the cost of the class.  Currently\, the cost is TBD\, however the price decreases with more participants.   This event is open to the public.\n\n\n\nA $10 deposit is required to confirm your spot. Once you have confirmed your class spot\, all participants can pay the remainder balance at the event.
X-ALT-DESC;FMTTYPE=text/html:<span style="background:white\;"><span style="color:#25201A\;"><span style="font-family:arial\,sans-serif\;"><span style="font-size:14.0pt\;">Get your Red Cross CPR Certification with the Chamber team and&nbsp\;</span></span></span></span><span style="border:none windowtext 1.0pt\;padding:0in\;background:white\;"><span style="color:black\;"><span style="font-family:arial\,sans-serif\;"><span style="font-size:14.0pt\;"><span style="box-sizing:content-box\;inset:auto\;content:normal\;empty-cells:show\;font-style:inherit\;font-variant:inherit\;font-weight:inherit\;font-stretch:inherit\;letter-spacing:inherit\;max-height:none\;max-width:none\;min-height:initial\;min-width:initial\;opacity:1\;outline-offset:0px\;resize:none\;text-align:inherit\;text-indent:inherit\;text-overflow:clip\;text-transform:inherit\;white-space:inherit\;word-break:inherit\;word-spacing:inherit\;overflow-wrap:inherit\;border-width:initial\;border-image:none 100% 1 0 / 1 / 0 stretch\;border-radius:0px\;box-shadow:none\;float:none\;overflow:visible\;visibility:inherit\;z-index:auto\;"><span style="font-size:inherit\;"><span style="color:inherit\;"><span style="box-sizing:content-box\;inset:auto\;content:normal\;empty-cells:show\;font-variant-ligatures:normal\;font-variant-caps:normal\;font-variant-numeric:inherit\;font-variant-east-asian:inherit\;font-stretch:inherit\;max-height:none\;max-width:none\;min-height:initial\;min-width:initial\;opacity:1\;outline-offset:0px\;resize:none\;text-overflow:clip\;word-break:inherit\;overflow-wrap:inherit\;border-width:initial\;border-image:none 100% 1 0 / 1 / 0 stretch\;border-radius:0px\;box-shadow:none\;orphans:2\;widows:2\;-webkit-text-stroke-width:0px\;float:none\;overflow:visible\;visibility:inherit\;word-spacing:0px\;z-index:auto\;"><span style="box-sizing:content-box\;inset:auto\;content:normal\;empty-cells:show\;font-style:inherit\;font-variant:inherit\;font-weight:inherit\;font-stretch:inherit\;letter-spacing:inherit\;max-height:none\;max-width:none\;min-height:initial\;min-width:initial\;opacity:1\;outline-offset:0px\;resize:none\;text-align:inherit\;text-indent:inherit\;text-overflow:clip\;text-transform:inherit\;white-space:inherit\;word-break:inherit\;word-spacing:inherit\;overflow-wrap:inherit\;border-width:initial\;border-image:none 100% 1 0 / 1 / 0 stretch\;border-radius:0px\;box-shadow:none\;float:none\;overflow:visible\;visibility:inherit\;z-index:auto\;"><span style="color:inherit\;">Officer Catherine Hazell\, a Nationally registered EMT with the</span></span></span></span></span></span><span style="font-variant-ligatures:normal\;font-variant-caps:normal\;orphans:2\;widows:2\;-webkit-text-stroke-width:0px\;text-decoration-thickness:initial\;text-decoration-style:initial\;float:none\;word-spacing:0px\;">&nbsp\;Ocean View Police Department.&nbsp\; Earn your 2-year certification...</span><span style="border:none windowtext 1.0pt\;padding:0in\;"><span style="box-sizing:content-box\;inset:auto\;content:normal\;empty-cells:show\;font-variant-ligatures:normal\;font-variant-caps:normal\;font-variant-numeric:inherit\;font-variant-east-asian:inherit\;font-stretch:inherit\;max-height:none\;max-width:none\;min-height:initial\;min-width:initial\;opacity:1\;outline-offset:0px\;resize:none\;text-overflow:clip\;word-break:inherit\;overflow-wrap:inherit\;border-width:initial\;border-image:none 100% 1 0 / 1 / 0 stretch\;border-radius:0px\;box-shadow:none\;orphans:2\;widows:2\;-webkit-text-stroke-width:0px\;float:none\;overflow:visible\;visibility:inherit\;word-spacing:0px\;z-index:auto\;">&nbsp\;and have fun doing it. &nbsp\;Each person or organization is responsible for the cost of the class.&nbsp\; Currently\, the cost is TBD\, however the price decreases with more participants. &nbsp\; This event is open to the public.</span></span></span></span></span></span><br style="box-sizing:content-box\;inset:auto\;content:normal\;empty-cells:show\;font-variant-ligatures:normal\;font-variant-caps:normal\;font-variant-numeric:inherit\;font-variant-east-asian:inherit\;font-stretch:inherit\;line-height:inherit\;max-height:none\;max-width:none\;min-height:initial\;min-width:initial\;opacity:1\;outline-offset:0px\;resize:none\;text-overflow:clip\;word-break:inherit\;overflow-wrap:inherit\;border-width:initial\;border-image:none 100% 1 0 / 1 / 0 stretch\;border-radius:0px\;orphans:2\;widows:2\;-webkit-text-stroke-width:0px\;float:none\;overflow:visible\;visibility:inherit\;word-spacing:0px\;z-index:auto\;" />\n<br style="box-sizing:content-box\;inset:auto\;content:normal\;empty-cells:show\;font-variant-ligatures:normal\;font-variant-caps:normal\;font-variant-numeric:inherit\;font-variant-east-asian:inherit\;font-stretch:inherit\;line-height:inherit\;max-height:none\;max-width:none\;min-height:initial\;min-width:initial\;opacity:1\;outline-offset:0px\;resize:none\;text-overflow:clip\;word-break:inherit\;overflow-wrap:inherit\;border-width:initial\;border-image:none 100% 1 0 / 1 / 0 stretch\;border-radius:0px\;orphans:2\;widows:2\;-webkit-text-stroke-width:0px\;float:none\;overflow:visible\;visibility:inherit\;word-spacing:0px\;z-index:auto\;" />\n<span style="color:#25201A\;"><span style="font-family:arial\,sans-serif\;"><span style="font-size:14.0pt\;"><span style="border:none windowtext 1.0pt\;padding:0in\;background:white\;"><span style="box-sizing:content-box\;inset:auto\;content:normal\;empty-cells:show\;font-variant-ligatures:normal\;font-variant-caps:normal\;font-variant-numeric:inherit\;font-variant-east-asian:inherit\;font-stretch:inherit\;max-height:none\;max-width:none\;min-height:initial\;min-width:initial\;opacity:1\;outline-offset:0px\;resize:none\;text-overflow:clip\;word-break:inherit\;overflow-wrap:inherit\;border-width:initial\;border-image:none 100% 1 0 / 1 / 0 stretch\;border-radius:0px\;box-shadow:none\;orphans:2\;widows:2\;-webkit-text-stroke-width:0px\;float:none\;overflow:visible\;visibility:inherit\;word-spacing:0px\;z-index:auto\;">A&nbsp\;<strong style="box-sizing:content-box\;inset:auto\;color:inherit\;content:normal\;empty-cells:show\;font-style:inherit\;font-variant:inherit\;font-stretch:inherit\;font-size:inherit\;letter-spacing:inherit\;line-height:inherit\;max-height:none\;max-width:none\;min-height:initial\;min-width:initial\;opacity:1\;outline-offset:0px\;resize:none\;text-align:inherit\;text-indent:inherit\;text-overflow:clip\;text-transform:inherit\;white-space:inherit\;word-break:inherit\;word-spacing:inherit\;overflow-wrap:inherit\;border-width:initial\;border-image:none 100% 1 0 / 1 / 0 stretch\;border-radius:0px\;box-shadow:none\;float:none\;overflow:visible\;visibility:inherit\;z-index:auto\;"><span style="font-family:arial\,sans-serif\;">$10 deposit is required to confirm your spot</span></strong>.&nbsp\;</span><span style="box-sizing:content-box\;inset:auto\;content:normal\;empty-cells:show\;font-variant-ligatures:normal\;font-variant-caps:normal\;font-variant-numeric:inherit\;font-variant-east-asian:inherit\;font-stretch:inherit\;max-height:none\;max-width:none\;min-height:initial\;min-width:initial\;opacity:1\;outline-offset:0px\;resize:none\;text-overflow:clip\;word-break:inherit\;overflow-wrap:inherit\;border-width:initial\;border-image:none 100% 1 0 / 1 / 0 stretch\;border-radius:0px\;box-shadow:none\;orphans:2\;widows:2\;-webkit-text-stroke-width:0px\;float:none\;overflow:visible\;visibility:inherit\;word-spacing:0px\;z-index:auto\;">Once you have confirmed your class spot\, all participants can pay the remainder balance at the event.&nbsp\; &nbsp\;</span></span></span></span></span><br />\n&nbsp\;
LOCATION:Ocean View Police Department 201 Central Ave\, Ocean View\, DE 19970 (302) 539-1111
UID:e.2126.23614
SEQUENCE:3
DTSTAMP:20260422T015640Z
URL:http://business.thequietresorts.com/events/details/cpr-certification-course-sponsored-by-the-chamber-2022-23614
END:VEVENT

END:VCALENDAR
