BEGIN:VCALENDAR
VERSION:2.0
PRODID:-//ChamberMaster//Event Calendar 2.0//EN
METHOD:PUBLISH
X-PUBLISHED-TTL:P3D
REFRESH-INTERVAL:P3D
CALSCALE:GREGORIAN
BEGIN:VEVENT
DTSTART;VALUE=DATE:20210326
DTEND;VALUE=DATE:20210327
TRANSP:TRANSPARENT
X-MICROSOFT-CDO-ALLDAYEVENT:TRUE
SUMMARY:COVID-19 Vaccine Community Event
DESCRIPTION:Are you 65+ and interested in receiving the COVID-19 vaccine? ChristianaCare is partnering with the State of Delaware and hosting vaccination events in community sites across New Castle County.\n\n\n\nTo sign up\, fill out the COVID-19 vaccination interest form by choosing one of the options below:\n\n	Visit and complete the form\n	Call 302-428-6586\n\nExpect a confirmation notice from a ChristianaCare caregiver to verify sign-up
X-ALT-DESC;FMTTYPE=text/html:<span style="font-family:arial\;"><span style="font-size:14px\;">Are you 65+ and interested in receiving the COVID-19 vaccine? ChristianaCare is partnering with the State of Delaware and hosting vaccination events in community sites across New Castle County.<br />\n<br />\nTo sign up\, fill out the COVID-19 vaccination interest form by choosing one of the options below:</span></span>\n<ul>\n	<li><span style="font-family:arial\;"><span style="font-size:14px\;">Visit and complete the <strong><a href="https://forms.office.com/pages/responsepage.aspx?id=m-oIB8afukG7m34GahgcCScpTC2H_FxMlEEhMfwMTP5UMTRTUU9GSzZTUk5ZSlZJR0hCQlNVQTJUWiQlQCN0PWcu" target="_blank">form</a></strong></span></span></li>\n	<li><span style="font-family:arial\;"><span style="font-size:14px\;">Call 302-428-6586</span></span></li>\n</ul>\n<span style="font-size:14px\;"><span style="font-family:arial\;"><em>Expect a confirmation notice from a ChristianaCare caregiver to verify sign-up</em></span></span>
LOCATION:St. Joseph Parish 371 E Main St Middletown\, DE 19709
UID:e.2126.21949
SEQUENCE:3
DTSTAMP:20260425T000005Z
URL:http://business.thequietresorts.com/events/details/covid-19-vaccine-community-event-21949
END:VEVENT

END:VCALENDAR
