BEGIN:VCALENDAR
VERSION:2.0
PRODID:-//ChamberMaster//Event Calendar 2.0//EN
METHOD:PUBLISH
X-PUBLISHED-TTL:P3D
REFRESH-INTERVAL:P3D
CALSCALE:GREGORIAN
BEGIN:VEVENT
DTSTART:20240203T000000Z
DTEND:20240203T010000Z
X-MICROSOFT-CDO-ALLDAYEVENT:FALSE
SUMMARY:Couple of Magicians: Francis Menotti & Lindsey Noel at Dickens Parlour
DESCRIPTION:Lindsey Noel & Francis Menotti \n\nFast\, funny\, freakin' impossible! Lindsey and Francis banter\, joust\, and ultimately combine forces to create a tour du force for any and all they encounter. These two have taken their original magic all over the country.\n\nLindsey Noel- Storyteller and whimsy weaver Lindsey Noel enchants and captivates every room she enters. Live and Virtual from the stages of the Chicago Magic Lounge\, Monday Night Magic\, & The Hollywood Magic Castle - to name a few - she exudes big glamorous energy in a pint-sized professional package. With a penchant for bringing wild ideas into reality\, Lindsey Noel makes the impossible accessible and invites everyone to peek inside!\n\nFrancis Menotti- Francis Menotti has been astounding audiences internationally since 2000. His highly innovative\, intelligent presentations are sought by prestigious clientele from the sound stages of Hollywood to the Oval Office\, the Hollywood Magic Castle to Fortune 500 companies. As a consultant for film\, television\, and other magicians\, Francis created all the magic for ABC's crime drama\, Deception. A powerful performer in his own right\, Francis can be seen in front of the camera fooling Penn & Teller on their hit show Fool Us\, (in 2015 and 2020) and on Masters of Illusion in 2019.
X-ALT-DESC;FMTTYPE=text/html:<p><strong>Lindsey Noel &amp\; Francis Menotti&nbsp\;</strong></p>\n\n<p><strong>Fast\, funny\, freakin&#39\; impossible! Lindsey&nbsp\;and Francis banter\, joust\, and ultimately combine forces to create a tour du force for any and all they encounter. These two have taken their original magic all&nbsp\;over&nbsp\;the&nbsp\;country.</strong></p>\n\n<p><strong>Lindsey Noel</strong><span style="color:black">- Storyteller and whimsy weaver Lindsey Noel enchants and captivates every room she enters. Live and Virtual from the stages of the Chicago Magic Lounge\, Monday Night Magic\, &amp\; The Hollywood Magic Castle - to name a few - she exudes big glamorous energy in a pint-sized professional package. With a penchant for bringing wild ideas into reality\, Lindsey Noel makes the impossible accessible and invites everyone to peek inside!</span></p>\n\n<p><strong>Francis Menotti</strong><span style="color:black">- Francis Menotti has been astounding audiences internationally since 2000.&nbsp\;His highly innovative\, intelligent presentations are sought by prestigious clientele from the sound stages of Hollywood to the Oval Office\, the Hollywood Magic Castle to Fortune 500 companies.&nbsp\;</span><span style="color:black">As&nbsp\;a consultant for film\, television\, and other magicians\, Francis created all the magic for ABC&#39\;s crime drama\,&nbsp\;</span><em>Deception</em><span style="color:black">. A&nbsp\;powerful performer in his own right\, Francis can be seen in&nbsp\;front of the camera&nbsp\;</span><em>fooling&nbsp\;</em><span style="color:black">Penn &amp\; Teller on their hit show&nbsp\;</span><em>Fool Us</em><span style="color:black">\, (in 2015 and 2020)&nbsp\;and&nbsp\;on Masters</span><em> of Illusion</em><span style="color:black">&nbsp\;in 2019.</span></p>\n
LOCATION:Dickens Parlour Theatre 31810 Good Earth Lane Ocean View\, DE 19970
UID:e.2126.28228
SEQUENCE:3
DTSTAMP:20260420T113226Z
URL:http://business.thequietresorts.com/events/details/couple-of-magicians-francis-menotti-lindsey-noel-at-dickens-parlour-28228
END:VEVENT

END:VCALENDAR
