BEGIN:VCALENDAR
VERSION:2.0
PRODID:-//ChamberMaster//Event Calendar 2.0//EN
METHOD:PUBLISH
X-PUBLISHED-TTL:P3D
REFRESH-INTERVAL:P3D
CALSCALE:GREGORIAN
BEGIN:VEVENT
DTSTART;VALUE=DATE:20220625
DTEND;VALUE=DATE:20220626
TRANSP:TRANSPARENT
X-MICROSOFT-CDO-ALLDAYEVENT:TRUE
SUMMARY:CoroAllegro Concert
DESCRIPTION:CoroAllegro is a twenty-eight member ensemble that has been performing for over 30 years.  Under the direction of Jeffrey Sean Dokken\, the ensemble continues to explore diverse and challenging repertoire covering a wide spectrum of vocal music styles.   \n\n\n\nFor more information about CoroAllegro\, please visit: coroallegro.com
X-ALT-DESC;FMTTYPE=text/html:<span style="font-size:14px\;"><span style="font-family:arial\;">CoroAllegro is a twenty-eight member ensemble that has been performing for over 30 years.&nbsp\; Under the direction of Jeffrey Sean Dokken\, the ensemble continues to explore diverse and challenging repertoire covering a wide spectrum of vocal music styles.&nbsp\; &nbsp\;<br />\n<br />\nFor more information about CoroAllegro\, please visit: coroallegro.com&nbsp\;&nbsp\;&nbsp\;&nbsp\;</span></span>
LOCATION:St. Martha's Episcopal Church 117 Maplewood Street Bethany Beach\, DE 19930
UID:e.2126.23785
SEQUENCE:3
DTSTAMP:20260421T223146Z
URL:http://business.thequietresorts.com/events/details/coroallegro-concert-23785
END:VEVENT

END:VCALENDAR
