BEGIN:VCALENDAR
VERSION:2.0
PRODID:-//ChamberMaster//Event Calendar 2.0//EN
METHOD:PUBLISH
X-PUBLISHED-TTL:P3D
REFRESH-INTERVAL:P3D
CALSCALE:GREGORIAN
BEGIN:VEVENT
DTSTART:20221029T170000Z
DTEND:20221029T200000Z
X-MICROSOFT-CDO-ALLDAYEVENT:FALSE
SUMMARY:Cops and Goblins Festival 2022
DESCRIPTION:Enjoy a day in Ocean View for the 5th Annual Cops and Goblins festival\, featuring a petting zoo\, free Ritas\, candy\, food\, and a costume contest! \n\n\n\nThe Ocean View Historial Society's historic buildings will be open 1-4 p.m. for touring. Visitors can meet Cecile Steele and Ocean View's early Post Mistress Annie West Betts\, and look for ghosts in the two-seater outhouse. \n\n\n\nCostume Contest\n\n	Best Cop Costume\n	Best Goblin Costume\n	Best Overall Costume\n\nIn the event that inclement weather is forecasted\, the event has a rain date scheduled of Sunday\, October 27\, 2019.\n\n\n\nVolunteer!\n\nInterested in volunteering at the event? Sign up for a volunteer shift here.
X-ALT-DESC;FMTTYPE=text/html:<span style="font-size: 14px\;"><span style="font-family: arial\;"><span style="color: rgb(0\, 0\, 0)\;">Enjoy a day in Ocean View for the 5th Annual Cops and Goblins festival\, featuring a petting zoo\, free Ritas\, candy\, food\, and a costume contest!&nbsp\;<br />\n<br />\nThe Ocean View Historial Society&#39\;s&nbsp\;<span style="background: white\;">historic buildings will be open 1-4 p.m. for touring. Visitors can meet Cecile Steele and Ocean View&#39\;s early Post Mistress Annie West Betts\, and look for ghosts in the two-seater outhouse.&nbsp\;</span><br />\n<br />\nCostume Contest</span></span></span>\n<ul>\n	<li><span style="font-size: 14px\;"><span style="font-family: arial\;"><span style="color: rgb(0\, 0\, 0)\;">Best Cop Costume</span></span></span></li>\n	<li><span style="font-size: 14px\;"><span style="font-family: arial\;"><span style="color: rgb(0\, 0\, 0)\;">Best Goblin Costume</span></span></span></li>\n	<li><span style="font-size: 14px\;"><span style="font-family: arial\;"><span style="color: rgb(0\, 0\, 0)\;">Best Overall Costume</span></span></span></li>\n</ul>\n<span style="font-size: 14px\;"><span style="font-family: arial\;">In the event that inclement weather is forecasted\, the event has a rain date scheduled of Sunday\, October 27\, 2019.<br />\n<br />\n<strong>Volunteer!</strong><br />\nInterested in volunteering at the event? Sign up for a volunteer shift <a href="https://www.signupgenius.com/go/60b0b4ca9ab22a1fc1-5thannual" target="_blank">here</a>.</span></span>
LOCATION:John West Park 32 West Ave Ocean View\, DE 19970
UID:e.2126.24089
SEQUENCE:3
DTSTAMP:20260421T173121Z
URL:http://business.thequietresorts.com/events/details/cops-and-goblins-festival-2022-24089
END:VEVENT

END:VCALENDAR
