BEGIN:VCALENDAR
VERSION:2.0
PRODID:-//ChamberMaster//Event Calendar 2.0//EN
METHOD:PUBLISH
X-PUBLISHED-TTL:P3D
REFRESH-INTERVAL:P3D
CALSCALE:GREGORIAN
BEGIN:VEVENT
DTSTART:20200215T173000Z
DTEND:20200215T203000Z
X-MICROSOFT-CDO-ALLDAYEVENT:FALSE
SUMMARY:Cooking & Wine Demonstration: The Perfect Pair
DESCRIPTION:A farm to table educational cooking demonstration by Chef Christian Costantino complemented by an instructional wine pairing.
X-ALT-DESC;FMTTYPE=text/html:<p><span style="font-size: 14px\;"><span style="font-family: arial\;">A farm to table educational cooking demonstration by Chef Christian Costantino complemented by an instructional wine pairing.</span></span></p>\n
LOCATION:Off the Hook 769 Garfield Pkwy Bethany Beach\, DE 19930
UID:e.2126.20068
SEQUENCE:3
DTSTAMP:20260426T003306Z
URL:http://business.thequietresorts.com/events/details/cooking-wine-demonstration-the-perfect-pair-20068
END:VEVENT

END:VCALENDAR
