BEGIN:VCALENDAR
VERSION:2.0
PRODID:-//ChamberMaster//Event Calendar 2.0//EN
METHOD:PUBLISH
X-PUBLISHED-TTL:P3D
REFRESH-INTERVAL:P3D
CALSCALE:GREGORIAN
BEGIN:VEVENT
DTSTART:20220323T123000Z
DTEND:20220323T123000Z
X-MICROSOFT-CDO-ALLDAYEVENT:FALSE
SUMMARY:Constituent Coffee
DESCRIPTION:Constituent Coffee\n\nSen. Gerald Hocker & Rep. Ron Gray
X-ALT-DESC;FMTTYPE=text/html:Constituent Coffee<br />\nSen. Gerald Hocker &amp\; Rep. Ron Gray
LOCATION:Millville Town Center Evans Park 32517 Dukes Dr. Millville\, DE 19967
UID:e.2126.23537
SEQUENCE:3
DTSTAMP:20260424T040444Z
URL:http://business.thequietresorts.com/events/details/constituent-coffee-23537
END:VEVENT

END:VCALENDAR
