BEGIN:VCALENDAR
VERSION:2.0
PRODID:-//ChamberMaster//Event Calendar 2.0//EN
METHOD:PUBLISH
X-PUBLISHED-TTL:P3D
REFRESH-INTERVAL:P3D
CALSCALE:GREGORIAN
BEGIN:VEVENT
DTSTART:20220315T120000Z
DTEND:20220315T140000Z
X-MICROSOFT-CDO-ALLDAYEVENT:FALSE
SUMMARY:Connect for Coffee @Salted Vines Vineyard & Winery
DESCRIPTION:Event Invitation\n\n\n\nConnect for Coffee at Salted Vines Vineyard & Winery\n\n\n\nDon't miss the March 2022 Connect for Coffee on Tuesday\, March 15th from 8:00 am to 10:00 am at Salted Vines Vineyard and Winery in Frankford. Chamber and community members alike are invited to join for a morning of networking. Whether you have five minutes or two hours in your schedule\, drop in\, have a cup of coffee\, and start your morning growing your connections.  This event is FREE and open to the public\, so bring a friend! RSVP not required.\n\n\n\nThank you to our co-hosts Preston Russell from Salted Vines Vineyard and Winery and John Murray from Applied Bank.
X-ALT-DESC;FMTTYPE=text/html:<strong><u><span style="font-family: tahoma\, sans-serif\;"><span style="font-size: 10pt\;">Event Invitation</span></span></u></strong><br />\n<br />\n<strong><span style="font-family: tahoma\, sans-serif\;">Connect for Coffee at Salted Vines Vineyard &amp\; Winery</span></strong><br />\n<br />\n<span style="font-family: tahoma\, sans-serif\;">Don&#39\;t miss the March 2022 Connect for Coffee on Tuesday\, March 15th from 8:00 am to 10:00 am at Salted Vines Vineyard and Winery in Frankford. Chamber and community members alike are invited to join for a morning of networking. Whether you have five minutes or two hours in your schedule\, drop in\, have a cup of coffee\, and start your morning growing your connections.&nbsp\; This event is FREE and open to the public\, so bring a friend! RSVP not required.</span><br />\n<br />\nThank you to our co-hosts Preston Russell from Salted Vines Vineyard and Winery and John Murray from Applied Bank.&nbsp\;&nbsp\;
LOCATION:Salted Vines Vineyard & Winery 32512 Blackwater Rd. Frankford\, DE 19945 302-436-1500
UID:e.2126.23495
SEQUENCE:3
DTSTAMP:20260424T040641Z
URL:http://business.thequietresorts.com/events/details/connect-for-coffee-salted-vines-vineyard-winery-23495
END:VEVENT

END:VCALENDAR
