BEGIN:VCALENDAR
VERSION:2.0
PRODID:-//ChamberMaster//Event Calendar 2.0//EN
METHOD:PUBLISH
X-PUBLISHED-TTL:P3D
REFRESH-INTERVAL:P3D
CALSCALE:GREGORIAN
BEGIN:VEVENT
DTSTART:20221115T130000Z
DTEND:20221115T150000Z
X-MICROSOFT-CDO-ALLDAYEVENT:FALSE
SUMMARY:Connect for Coffee @ Bethany Beach Books
DESCRIPTION:Event Invitation\n\n\n\nConnect for Coffee at Bethany Beach Books \n\n\n\nDon't miss the November 2022 Connect for Coffee on Tuesday\, November 15th from 8:00 am to 10:00 am at Bethany Beach Books.  Chamber and community members alike are invited to join for a morning of networking. Whether you have five minutes or two hours in your schedule\, drop in\, have a cup of coffee and a light breakfast from Maureen's Ice Cream and Coffee\, and start your morning growing your connections. \n\n\n\nThis event is FREE and open to the public\, so bring a friend! RSVP not required.
X-ALT-DESC;FMTTYPE=text/html:<strong><u><span style="font-family: tahoma\, sans-serif\;"><span style="font-size: 10pt\;">Event Invitation</span></span></u></strong><br />\n<br />\n<strong><span style="font-family: tahoma\, sans-serif\;">Connect for Coffee at Bethany Beach Books&nbsp\;</span></strong><br />\n<br />\n<span style="font-family: tahoma\, sans-serif\;">Don&#39\;t miss the November 2022 Connect for Coffee on Tuesday\, November 15th from 8:00 am to 10:00 am at Bethany Beach Books.&nbsp\; Chamber and community members alike are invited to join for a morning of networking. Whether you have five minutes or two hours in your schedule\, drop in\, have a cup of coffee and a light breakfast from Maureen&#39\;s Ice Cream and Coffee\, and start your morning growing your connections.&nbsp\;<br />\n<br />\nThis event is FREE and open to the public\, so bring a friend! RSVP not required.</span>
LOCATION:Bethany Beach Books 99 Garfield Pkwy. Bethany Beach\, DE 19930
UID:e.2126.24176
SEQUENCE:3
DTSTAMP:20260421T141922Z
URL:http://business.thequietresorts.com/events/details/connect-for-coffee-bethany-beach-books-24176
END:VEVENT

END:VCALENDAR
