BEGIN:VCALENDAR
VERSION:2.0
PRODID:-//ChamberMaster//Event Calendar 2.0//EN
METHOD:PUBLISH
X-PUBLISHED-TTL:P3D
REFRESH-INTERVAL:P3D
CALSCALE:GREGORIAN
BEGIN:VEVENT
DTSTART:20220419T120000Z
DTEND:20220419T140000Z
X-MICROSOFT-CDO-ALLDAYEVENT:FALSE
SUMMARY:Connect for Coffee @ Bank of Ocean City Fenwick
DESCRIPTION:Event Invitation\n\n\n\nConnect for Coffee at Bank of Ocean City -Fenwick\n\n\n\nDon't miss the April 2022 Connect for Coffee on Tuesday\, April 19th from 8:00 am to 10:00 am at the Bank of Ocean City in Fenwick. Chamber and community members alike are invited to join for a morning of networking. Whether you have five minutes or two hours in your schedule\, drop in\, have a cup of coffee\, and start your morning growing your connections.  This event is FREE and open to the public\, so bring a friend! RSVP not required.
X-ALT-DESC;FMTTYPE=text/html:<strong><u><span style="font-family: tahoma\, sans-serif\;"><span style="font-size: 10pt\;">Event Invitation</span></span></u></strong><br />\n<br />\n<strong><span style="font-family: tahoma\, sans-serif\;">Connect for Coffee at Bank of Ocean City -Fenwick</span></strong><br />\n<br />\n<span style="font-family: tahoma\, sans-serif\;">Don&#39\;t miss the April 2022 Connect for Coffee on Tuesday\, April 19th from 8:00 am to 10:00 am at the Bank of Ocean City in Fenwick. Chamber and community members alike are invited to join for a morning of networking. Whether you have five minutes or two hours in your schedule\, drop in\, have a cup of coffee\, and start your morning growing your connections.&nbsp\; This event is FREE and open to the public\, so bring a friend! RSVP not required.</span><br />\n&nbsp\;
LOCATION:Bank of Ocean City 904 Coastal Hwy. Fenwick Island\, DE 19944
UID:e.2126.23524
SEQUENCE:3
DTSTAMP:20260422T020738Z
URL:http://business.thequietresorts.com/events/details/connect-for-coffee-bank-of-ocean-city-fenwick-23524
END:VEVENT

END:VCALENDAR
