BEGIN:VCALENDAR
VERSION:2.0
PRODID:-//ChamberMaster//Event Calendar 2.0//EN
METHOD:PUBLISH
X-PUBLISHED-TTL:P3D
REFRESH-INTERVAL:P3D
CALSCALE:GREGORIAN
BEGIN:VEVENT
DTSTART:20240603T120000Z
DTEND:20240603T140000Z
X-MICROSOFT-CDO-ALLDAYEVENT:FALSE
SUMMARY:Connect for Coffee at the Chamber's New Dagsboro Office
DESCRIPTION:Join the Bethany-Fenwick Area Chamber of Commerce on Monday\, June 3rd\, for a Connect for Coffee at the Chamber's new office in Dagsboro.  From 8:00AM - 10:00AM\, come see the new office\, bring collateral to display in the Dagsboro information center\, and network with fellow Chamber members.  There will also be an open house for the new office from 12:00 PM to 4:00 PM and a ribbon cutting at 2:00 PM on the 3rd.
X-ALT-DESC;FMTTYPE=text/html:Join the Bethany-Fenwick Area Chamber of Commerce on Monday\, June 3rd\, for a Connect for Coffee at the Chamber&#39\;s new office in Dagsboro.&nbsp\; From 8:00AM - 10:00AM\, come see the new office\, bring collateral to display in the Dagsboro information center\, and network with fellow Chamber members.&nbsp\; There will also be an <a href="https://business.bethany-fenwick.org/events/details/chamber-dagsboro-office-grand-opening-ribbon-cutting-open-house-30064">open house</a> for the new office from 12:00 PM to 4:00 PM and a ribbon cutting at 2:00 PM on the 3rd.&nbsp\;
LOCATION:33370 Main St. Dagsboro\, DE 19939
UID:e.2126.30065
SEQUENCE:3
DTSTAMP:20260420T091153Z
URL:http://business.thequietresorts.com/events/details/connect-for-coffee-at-the-chamber-s-new-dagsboro-office-30065
END:VEVENT

END:VCALENDAR
