BEGIN:VCALENDAR
VERSION:2.0
PRODID:-//ChamberMaster//Event Calendar 2.0//EN
METHOD:PUBLISH
X-PUBLISHED-TTL:P3D
REFRESH-INTERVAL:P3D
CALSCALE:GREGORIAN
BEGIN:VEVENT
DTSTART:20230208T130000Z
DTEND:20230208T150000Z
X-MICROSOFT-CDO-ALLDAYEVENT:FALSE
SUMMARY:Connect for Coffee at Delmarva Design Center
DESCRIPTION:Event Invitation\n\nConnect for Coffee at Delmarva Design Center\n\nDon't miss the February 2023 Connect for Coffee on Wednesday\, February 8th from 8:00 am to 10:00 am as we kick of the networking at Delmarva Design Center in Selbyville. Chamber and community members alike are invited to join for a morning of networking. Whether you have five minutes or two hours in your schedule\, drop in\, have a cup of coffee\, and start your morning growing your connections.  This event is FREE and open to the public\, so bring a friend! RSVP not required.
X-ALT-DESC;FMTTYPE=text/html:<strong><u><span style="color:#333333\;"><span style="font-family:tahoma\,sans-serif\;"><span style="font-size:10.0pt\;">Event Invitation</span></span></span></u></strong><br />\n<strong><span style="color:#333333\;"><span style="font-family:tahoma\,sans-serif\;">Connect for Coffee at Delmarva Design Center</span></span></strong><br />\n<span style="color:#333333\;"><span style="font-family:tahoma\,sans-serif\;">Don&#39\;t miss the February 2023 Connect for Coffee on Wednesday\, February 8th from 8:00 am to 10:00 am as we kick of the networking at Delmarva Design Center in Selbyville. Chamber and community members alike are invited to join for a morning of networking. Whether you have five minutes or two hours in your schedule\, drop in\, have a cup of coffee\, and start your morning growing your connections.&nbsp\; This event is FREE and open to the public\, so bring a friend! RSVP not required.</span></span><br />\n<br />\n<br />\n&nbsp\;
LOCATION:Delmarva Design Center 38507 DuPont Blvd. Selbyville\, DE 19975
UID:e.2126.24922
SEQUENCE:3
DTSTAMP:20260421T074311Z
URL:http://business.thequietresorts.com/events/details/connect-for-coffee-at-delmarva-design-center-24922
END:VEVENT

END:VCALENDAR
