BEGIN:VCALENDAR
VERSION:2.0
PRODID:-//ChamberMaster//Event Calendar 2.0//EN
METHOD:PUBLISH
X-PUBLISHED-TTL:P3D
REFRESH-INTERVAL:P3D
CALSCALE:GREGORIAN
BEGIN:VEVENT
DTSTART:20230315T120000Z
DTEND:20230315T140000Z
X-MICROSOFT-CDO-ALLDAYEVENT:FALSE
SUMMARY:Connect for Coffee at CustomFit360
DESCRIPTION:Event Invitation\n\nConnect for Coffee at CustomFit360\n\nDon't miss the March 2023 Connect for Coffee on Wednesday\, March 15th from 8:00 am to 10:00 am at CustomFit360 in Ocean View. Chamber and community members alike are invited to join for a morning of networking. Whether you have five minutes or two hours in your schedule\, drop in\, have a cup of coffee\, and start your morning growing your connections.  This event is FREE and open to the public\, so bring a friend! RSVP not required.
X-ALT-DESC;FMTTYPE=text/html:<span style="font-size:14px\;"><span style="font-family:arial\;"><strong><u><span style="color:#333333\;">Event Invitation</span></u></strong><br />\n<strong><span style="color:#333333\;">Connect for Coffee at CustomFit360</span></strong></span></span><br />\n<span style="color:#333333\;"><span style="font-family:tahoma\,sans-serif\;">Don&#39\;t miss the March 2023 Connect for Coffee on Wednesday\, March 15th from 8:00 am to 10:00 am at CustomFit360 in Ocean View. Chamber and community members alike are invited to join for a morning of networking. Whether you have five minutes or two hours in your schedule\, drop in\, have a cup of coffee\, and start your morning growing your connections.&nbsp\; This event is FREE and open to the public\, so bring a friend! RSVP not required.</span></span><br />\n<br />\n<br />\n&nbsp\;
LOCATION:CustomFit360 29K Atlantic Ave. Ocean View\, DE 19970
UID:e.2126.25185
SEQUENCE:3
DTSTAMP:20260421T055840Z
URL:http://business.thequietresorts.com/events/details/connect-for-coffee-at-customfit360-25185
END:VEVENT

END:VCALENDAR
