BEGIN:VCALENDAR
VERSION:2.0
PRODID:-//ChamberMaster//Event Calendar 2.0//EN
METHOD:PUBLISH
X-PUBLISHED-TTL:P3D
REFRESH-INTERVAL:P3D
CALSCALE:GREGORIAN
BEGIN:VEVENT
DTSTART:20230616T120000Z
DTEND:20230616T140000Z
X-MICROSOFT-CDO-ALLDAYEVENT:FALSE
SUMMARY:Connect for Coffee and Ribbon Cutting/Grand Opening Celebration at Stride Physical Therapy and Wellness
DESCRIPTION:Join the Bethany-Fenwick Area Chamber of Commerce at Stride Physical Therapy and Wellness for your morning coffee on Friday\, June 16th\, to celebrate Stride Physical Therapy and Wellness's Grand Opening with a ribbon cutting celebration!  The event will begin at 8:00am\, with the ribbon to be cut at 9:00am\, and coffee and networking continuing until 10:00am.
X-ALT-DESC;FMTTYPE=text/html:Join the Bethany-Fenwick Area Chamber of Commerce at Stride Physical Therapy and Wellness for your morning coffee on Friday\, June 16th\, to celebrate Stride Physical Therapy and Wellness&#39\;s Grand Opening with a ribbon cutting celebration!&nbsp\; The event will begin at 8:00am\, with the ribbon to be cut at 9:00am\, and coffee and networking continuing until 10:00am.&nbsp\;
LOCATION:Stride Physical Therapy and Wellness 35247 Atlantic Ave.\, Unit 2 Millville\, DE\, 19967
UID:e.2126.25872
SEQUENCE:3
DTSTAMP:20260421T005002Z
URL:http://business.thequietresorts.com/events/details/connect-for-coffee-and-ribbon-cutting-grand-opening-celebration-at-stride-physical-therapy-and-wellness-25872
END:VEVENT

END:VCALENDAR
