BEGIN:VCALENDAR
VERSION:2.0
PRODID:-//ChamberMaster//Event Calendar 2.0//EN
METHOD:PUBLISH
X-PUBLISHED-TTL:P3D
REFRESH-INTERVAL:P3D
CALSCALE:GREGORIAN
BEGIN:VEVENT
DTSTART:20220920T120000Z
DTEND:20220920T140000Z
X-MICROSOFT-CDO-ALLDAYEVENT:FALSE
SUMMARY:Connect for Coffee and Ribbon Cutting Ceremony Ocean View Jewelers
DESCRIPTION:Don't miss the September Connect for Coffee & Ribbon Cutting at Ocean View Jewelers! Chamber and community members alike are invited to join for a morning of networking and celebration as we welcome Ocean View Jewelers to the business community. Whether you have five minutes or two hours in your schedule\, drop in\, have a cup of coffee and start your morning with arguably the easiest way to grow your business. This event is FREE and open to the public\, so bring a friend! RSVP is not required.
X-ALT-DESC;FMTTYPE=text/html:<span style="background-image: initial\; background-position: initial\; background-size: initial\; background-repeat: initial\; background-attachment: initial\; background-origin: initial\; background-clip: initial\;"><span style="font-family: &quot\;century gothic&quot\;\, sans-serif\;"><span style="font-size: 14px\;"><span style="font-family: arial\;">Don&#39\;t miss the September Connect for Coffee &amp\; Ribbon Cutting at Ocean View Jewelers! Chamber and community members alike are invited to join for a morning of networking and celebration as we welcome Ocean View Jewelers to the business community.&nbsp\;</span></span></span></span><span style="background-image: initial\; background-position: initial\; background-size: initial\; background-repeat: initial\; background-attachment: initial\; background-origin: initial\; background-clip: initial\;"><span style="font-family: &quot\;century gothic&quot\;\, sans-serif\;"><span style="font-size: 14px\;"><span style="font-family: arial\;">Whether you have five minutes or two hours in your schedule\, drop in\, have a cup of coffee&nbsp\;and start your morning with arguably the easiest way to grow your business.&nbsp\;<strong>This event is FREE and open to the public\, so bring a friend!</strong>&nbsp\;RSVP is not required.</span></span></span></span>
LOCATION:Ocean View Jewelers 35785 Atlantic Ave. Millville\, DE 19967
UID:e.2126.23527
SEQUENCE:3
DTSTAMP:20260421T173425Z
URL:http://business.thequietresorts.com/events/details/connect-for-coffee-and-ribbon-cutting-ceremony-ocean-view-jewelers-23527
END:VEVENT

END:VCALENDAR
