BEGIN:VCALENDAR
VERSION:2.0
PRODID:-//ChamberMaster//Event Calendar 2.0//EN
METHOD:PUBLISH
X-PUBLISHED-TTL:P3D
REFRESH-INTERVAL:P3D
CALSCALE:GREGORIAN
BEGIN:VEVENT
DTSTART:20200211T130000Z
DTEND:20200211T150000Z
X-MICROSOFT-CDO-ALLDAYEVENT:FALSE
SUMMARY:Connect for Coffee: 2020 Kick-Off Tatum - Poole Decor & More
DESCRIPTION:Don't miss the February 2020 Connect for Coffee as we kick off the 2020 Connect For Coffee networking at Tatum - Poole Decor & More in Selbyville! Chamber and community members alike are invited to join for a morning of networking. Whether you have five minutes or two hours in your schedule\, drop in\, have a cup of coffee and start your morning growing your connections.This event is FREE and open to the public\, so bring a friend! RSVP is not required.
X-ALT-DESC;FMTTYPE=text/html:<span><span style="font-family: century gothic\,sans-serif\;"><span style="font-size: 14px\;"><span style="font-family: arial\;">Don&#39\;t miss the February 2020 Connect for Coffee as we kick off the 2020 Connect For Coffee networking at Tatum - Poole Decor &amp\; More in Selbyville! Chamber and community members alike are invited to join for a morning of networking.&nbsp\;</span></span></span></span><span><span style="font-family: century gothic\,sans-serif\;"><span style="font-size: 14px\;"><span style="font-family: arial\;">Whether you have five minutes or two hours in your schedule\, drop in\, have a cup of coffee&nbsp\;and start your morning growing your connections.<strong>This event is FREE and open to the public\, so bring a friend!</strong>&nbsp\;RSVP is not required.</span></span></span></span>
LOCATION:Tatum - Poole Decor & More 14 W\, Church St. Selbyville\, DE 19975
UID:e.2126.19674
SEQUENCE:3
DTSTAMP:20260426T020716Z
URL:http://business.thequietresorts.com/events/details/connect-for-coffee-2020-kick-off-tatum-poole-decor-more-19674
END:VEVENT

END:VCALENDAR
